BEGIN:VCALENDAR
VERSION:2.0
PRODID:-//Evergreen Family Wines - ECPv6.15.18//NONSGML v1.0//EN
CALSCALE:GREGORIAN
METHOD:PUBLISH
X-ORIGINAL-URL:https://evergreenfamilywines.com
X-WR-CALDESC:Events for Evergreen Family Wines
REFRESH-INTERVAL;VALUE=DURATION:PT1H
X-Robots-Tag:noindex
X-PUBLISHED-TTL:PT1H
BEGIN:VTIMEZONE
TZID:America/Los_Angeles
BEGIN:DAYLIGHT
TZOFFSETFROM:-0800
TZOFFSETTO:-0700
TZNAME:PDT
DTSTART:20250309T100000
END:DAYLIGHT
BEGIN:STANDARD
TZOFFSETFROM:-0700
TZOFFSETTO:-0800
TZNAME:PST
DTSTART:20251102T090000
END:STANDARD
BEGIN:DAYLIGHT
TZOFFSETFROM:-0800
TZOFFSETTO:-0700
TZNAME:PDT
DTSTART:20260308T100000
END:DAYLIGHT
BEGIN:STANDARD
TZOFFSETFROM:-0700
TZOFFSETTO:-0800
TZNAME:PST
DTSTART:20261101T090000
END:STANDARD
BEGIN:DAYLIGHT
TZOFFSETFROM:-0800
TZOFFSETTO:-0700
TZNAME:PDT
DTSTART:20270314T100000
END:DAYLIGHT
BEGIN:STANDARD
TZOFFSETFROM:-0700
TZOFFSETTO:-0800
TZNAME:PST
DTSTART:20271107T090000
END:STANDARD
END:VTIMEZONE
BEGIN:VEVENT
DTSTART;TZID=America/Los_Angeles:20260422T140000
DTEND;TZID=America/Los_Angeles:20260422T170000
DTSTAMP:20260420T020540
CREATED:20260308T185045Z
LAST-MODIFIED:20260327T202311Z
UID:10000982-1776866400-1776877200@evergreenfamilywines.com
SUMMARY:Wine Down Wednesdays | Leavenworth
DESCRIPTION:Midweek deserves a little reward. Join us every Wednesday for Wine Down Wednesday Happy Hour and enjoy special pricing on wines by the glass in a cozy\, relaxed atmosphere. \nGrab a friend\, unwind after work\, and let us pour you something delicious.
URL:https://evergreenfamilywines.com/event/wine-wednesdays-happy-hour-woodinville/2026-04-22/
LOCATION:Leavenworth Tasting Room\, 707 Hwy 2 Unit D\, Leavenworth\, WA\, 98826\, United States
ATTACH;FMTTYPE=image/png:https://evergreenfamilywines.com/wp-content/uploads/2026/03/Event-Calendar-Graphics-24.png
END:VEVENT
BEGIN:VEVENT
DTSTART;TZID=America/Los_Angeles:20260422T150000
DTEND;TZID=America/Los_Angeles:20260422T180000
DTSTAMP:20260420T020540
CREATED:20260327T202515Z
LAST-MODIFIED:20260327T202515Z
UID:10001510-1776870000-1776880800@evergreenfamilywines.com
SUMMARY:Wine Down Wednesdays | Prosser
DESCRIPTION:Midweek deserves a little reward. Join us every Wednesday for Wine Down Wednesday Happy Hour and enjoy special pricing on wines by the glass in a cozy\, relaxed atmosphere. \nGrab a friend\, unwind after work\, and let us pour you something delicious.
URL:https://evergreenfamilywines.com/event/wine-down-wednesdays-prosser/2026-04-22/
LOCATION:Prosser Tasting Room\, 508 Cabernet Court\, Prosser\, WA\, 99350\, United States
ATTACH;FMTTYPE=image/png:https://evergreenfamilywines.com/wp-content/uploads/2026/03/Event-Calendar-Graphics-24.png
END:VEVENT
BEGIN:VEVENT
DTSTART;TZID=America/Los_Angeles:20260423T180000
DTEND;TZID=America/Los_Angeles:20260423T200000
DTSTAMP:20260420T020540
CREATED:20260327T194352Z
LAST-MODIFIED:20260327T194352Z
UID:10000937-1776967200-1776974400@evergreenfamilywines.com
SUMMARY:Live Music Ben Naught | Prosser
DESCRIPTION:From the Heart of Eastern Washington Ben Naught’s music resonates with the soulful essence of rural America. Born and raised in the heart of Eastern Washington\, Ben’s connection to the countryside runs deep. His songs paint vivid pictures of life in small towns\, echoing the resilience and raw beauty of the landscapes that shaped him. Authentic Country Storytelling With roots firmly planted in the traditions of country music\, Ben Naught is a master storyteller. Each lyric carries the weight of real-life experiences\, inviting listeners to join him on a journey through love\, loss\, and everything in between. From intimate acoustic performances to lively honky-tonk gigs\, Ben’s music captures the essence of authentic country living. Versatile and Captivating Performances From soulful ballads that tug at the heartstrings to foot-stomping anthems that ignite the dance floor\, Ben’s versatility as a performer shines through. Whether he’s playing to a small\, intimate crowd or commanding the stage at a packed venue\, Ben’s magnetic presence leaves a lasting impression on audiences near and far. What’s Next? As Ben continues to carve his path in the world of country music\, the journey is far from over.
URL:https://evergreenfamilywines.com/event/live-music-ben-naught-prosser/
LOCATION:Prosser Tasting Room\, 508 Cabernet Court\, Prosser\, WA\, 99350\, United States
ATTACH;FMTTYPE=image/png:https://evergreenfamilywines.com/wp-content/uploads/2026/03/Event-Calendar-Graphics-27.png
END:VEVENT
BEGIN:VEVENT
DTSTART;TZID=America/Los_Angeles:20260425T140000
DTEND;TZID=America/Los_Angeles:20260425T170000
DTSTAMP:20260420T020540
CREATED:20260317T174504Z
LAST-MODIFIED:20260317T174504Z
UID:10000921-1777125600-1777136400@evergreenfamilywines.com
SUMMARY:Live Music by Jarrett Renshaw | Woodinville
DESCRIPTION:THE ARTIST\nJarrett Renshaw is a talented singer and multi-instrumentalist known for his captivating performances featuring acoustic soft rock and pop from the Singer/Songwriter genre. He genuinely loves to perform and treats his audience like family and friends. Whether you’re hearing him for the first time or returning for another show\, Jarrett’s performances are always memorable\, heartfelt\, and uniquely his own. \nTHE REPERTOIRE\nJarrett brings his audience the soundtrack of a lifetime—classics from the Sixties to today that’ll have you singing along\, reminiscing\, and discovering something new all at once. \nEnjoy a musical journey that transcends generations with beloved hits from legends like James Taylor\, The Eagles\, Neil Young\, Cat Stevens\, Jimmy Buffett\, R.E.M.\, and many more. \nJarrett also performs original songs\, beautifully crafted short stories about life\, the beginnings and endings of love\, and twists of fate. \nTHE SOUND \nJarrett doesn’t just sing—he reaches out and touches the room. With an impressive range and a pure\, heartfelt delivery\, he captivates audiences and creates moments that linger long after the last note. \nInstrumentally\, Jarrett has achieved a unique and captivating sound using a combination of traditional and electronic instruments. Performing on a Martin acoustic guitar and a Nashville high-strung guitar\, he creates textures that can resemble a mandolin\, banjo\, or even a full string ensemble. He frequently incorporates harmonica in the style of Dylan and Neil Young\, and classic blues\, adding another layer of authenticity to his sound. \nWhat truly sets Jarrett apart is his use of vintage organ-style bass pedals. Playing an authentic 1970s bass synthesizer with his feet while simultaneously performing on guitar and harmonica\, he delivers a one-of-a-kind live music experience that must be seen—and heard—to be believed.
URL:https://evergreenfamilywines.com/event/live-music-by-jarrett-renshaw-woodinville-4/
LOCATION:Woodinville Tasting Room\, 14450 Redmond-Woodinville Rd NE\, Woodinville\, WA\, 98072\, United States
ATTACH;FMTTYPE=image/png:https://evergreenfamilywines.com/wp-content/uploads/2026/01/Event-Calendar-Graphics-8.png
END:VEVENT
BEGIN:VEVENT
DTSTART;TZID=America/Los_Angeles:20260429T140000
DTEND;TZID=America/Los_Angeles:20260429T170000
DTSTAMP:20260420T020540
CREATED:20260308T185045Z
LAST-MODIFIED:20260327T202311Z
UID:10000983-1777471200-1777482000@evergreenfamilywines.com
SUMMARY:Wine Down Wednesdays | Leavenworth
DESCRIPTION:Midweek deserves a little reward. Join us every Wednesday for Wine Down Wednesday Happy Hour and enjoy special pricing on wines by the glass in a cozy\, relaxed atmosphere. \nGrab a friend\, unwind after work\, and let us pour you something delicious.
URL:https://evergreenfamilywines.com/event/wine-wednesdays-happy-hour-woodinville/2026-04-29/
LOCATION:Leavenworth Tasting Room\, 707 Hwy 2 Unit D\, Leavenworth\, WA\, 98826\, United States
ATTACH;FMTTYPE=image/png:https://evergreenfamilywines.com/wp-content/uploads/2026/03/Event-Calendar-Graphics-24.png
END:VEVENT
BEGIN:VEVENT
DTSTART;TZID=America/Los_Angeles:20260429T150000
DTEND;TZID=America/Los_Angeles:20260429T180000
DTSTAMP:20260420T020540
CREATED:20260327T202515Z
LAST-MODIFIED:20260327T202515Z
UID:10001511-1777474800-1777485600@evergreenfamilywines.com
SUMMARY:Wine Down Wednesdays | Prosser
DESCRIPTION:Midweek deserves a little reward. Join us every Wednesday for Wine Down Wednesday Happy Hour and enjoy special pricing on wines by the glass in a cozy\, relaxed atmosphere. \nGrab a friend\, unwind after work\, and let us pour you something delicious.
URL:https://evergreenfamilywines.com/event/wine-down-wednesdays-prosser/2026-04-29/
LOCATION:Prosser Tasting Room\, 508 Cabernet Court\, Prosser\, WA\, 99350\, United States
ATTACH;FMTTYPE=image/png:https://evergreenfamilywines.com/wp-content/uploads/2026/03/Event-Calendar-Graphics-24.png
END:VEVENT
BEGIN:VEVENT
DTSTART;TZID=America/Los_Angeles:20260430T180000
DTEND;TZID=America/Los_Angeles:20260430T200000
DTSTAMP:20260420T020540
CREATED:20260308T183857Z
LAST-MODIFIED:20260308T184111Z
UID:10000586-1777572000-1777579200@evergreenfamilywines.com
SUMMARY:BUNCO Night | Woodinville
DESCRIPTION:Grab your friends (or come make new ones!) and join us for a lively night of Bunco\, wine\, and lots of laughs. No experience necessary\, this fast-paced dice game is easy to learn and perfect for a relaxed night out. \nWe’ll keep the wine flowing while the dice roll. Expect friendly competition and plenty of cheering. \nSeats are limited\, so grab your spot and get ready for a night of rolling\, sipping\, and winning.
URL:https://evergreenfamilywines.com/event/bunco-night-woodinville/2026-04-30/
LOCATION:Woodinville Tasting Room\, 14450 Redmond-Woodinville Rd NE\, Woodinville\, WA\, 98072\, United States
ATTACH;FMTTYPE=image/png:https://evergreenfamilywines.com/wp-content/uploads/2026/03/Event-Calendar-Graphics-23.png
END:VEVENT
BEGIN:VEVENT
DTSTART;TZID=America/Los_Angeles:20260430T180000
DTEND;TZID=America/Los_Angeles:20260430T200000
DTSTAMP:20260420T020540
CREATED:20260327T193438Z
LAST-MODIFIED:20260327T193438Z
UID:10000930-1777572000-1777579200@evergreenfamilywines.com
SUMMARY:Live Music by Zac Burrell | Prosser
DESCRIPTION:“At the young age of just three years old Zac Burrell started to play drums for the first time. The early talent was noted by his Uncle who gave him his first full-size drum set at the age of four. Growing up in the city of Pasco\, Washington\, with two sisters and both parents who were a major musical influence on his life. The classic rock influence came from playing AC/DC\, Stevie Ray Vaughn\, Led Zeppelin and Rush in the basement with Dad. Mom brought Pop and Motown (Marvin Gaye\, Stevie Wonder\, Michael Jackson\, Prince and The Temptations) into the picture. These foundational influences along with the then-current music of his era (Hansen\, Creed\, N’Synce\, Chris Brown\, Eminem\, Usher) began to mold the timing signature he so often displays today. \nAt the age of 13 he began to master the guitar and at 15 started writing original songs after school and between sports practices. During his high school years he formed a couple bands with friends and also started playing the piano. \nBy his high school graduation Zac had decided that music would be forever part of his life. As he entered college he molded his curriculum around a music career. In his second year of college (2013) he dropped out to pursue a professional drumming career for the national touring pop rock band Night Argent. \nWhile touring nationally with Night Argent since 2013\, Zac has played a huge part in the bands success from a National Television Debut on AXS TV\, to Winning the Ernie Ball Battle of the Bands contest as drummer in the band Night Argent in 2015. Performed at Vans Warped Tour 2014\, 2015\, and 2016\, Performed at SXSW 2015 and 2016\, having thousands of YouTube views\, Recording at Robert Lang Studios 2016\, Rainmaker Studios 2018\, and most recently with his solo project recording at Synergy Productions 2018. \nZac also played the last two years with local country cover band Stompin’ Ground with founder and local legend Kevin “Mofo” Williams\, where he would try out his original material with songs like “Cowboy” and “Love What We Does”… Besides playing nationally with his band in Night Argent\, and locally with Stompin’ Ground\, Zac has personally performed and opened for Old Dominion\, James Otto Wade Hayes\, Trick Pony\, Keith Anderson\, Ty Herndon\, Jason Michael Carrol\, Sawyer Brown Band\, Rust on the Rails\, and Zack Hinson. Working alongside producer Sean Walker at Synergy Productions in Seattle Wa\, and Multiple Grammy Winning Engineer Andrew Mendelson at Georgetown Masters in Nashville\, TN… His three song EP titled “Part One” is Zac’s very first solo project! Zac is also in the midst or releasing his first full length music video for his song “Cowboy”\, with Chase Thompson and Shane Santanna of Rain Maker Productions. The video will include the Host of the National radio show “Legends of Country” Ed Dailey\, and will be releasing through Vevo coming soon! \nFor all up coming Shows/Music/and Booking info about Zac visit his website www.zacburrell.com or on all his socials Facebook\, Instagram\, etc…. “
URL:https://evergreenfamilywines.com/event/live-music-by-zac-burrell-prosser-2/
LOCATION:Prosser Tasting Room\, 508 Cabernet Court\, Prosser\, WA\, 99350\, United States
ATTACH;FMTTYPE=image/png:https://evergreenfamilywines.com/wp-content/uploads/2026/01/Event-Calendar-Graphics-20.png
END:VEVENT
END:VCALENDAR