BEGIN:VCALENDAR
VERSION:2.0
PRODID:-//Evergreen Family Wines - ECPv6.15.18//NONSGML v1.0//EN
CALSCALE:GREGORIAN
METHOD:PUBLISH
X-WR-CALNAME:Evergreen Family Wines
X-ORIGINAL-URL:https://evergreenfamilywines.com
X-WR-CALDESC:Events for Evergreen Family Wines
REFRESH-INTERVAL;VALUE=DURATION:PT1H
X-Robots-Tag:noindex
X-PUBLISHED-TTL:PT1H
BEGIN:VTIMEZONE
TZID:America/Los_Angeles
BEGIN:DAYLIGHT
TZOFFSETFROM:-0800
TZOFFSETTO:-0700
TZNAME:PDT
DTSTART:20250309T100000
END:DAYLIGHT
BEGIN:STANDARD
TZOFFSETFROM:-0700
TZOFFSETTO:-0800
TZNAME:PST
DTSTART:20251102T090000
END:STANDARD
BEGIN:DAYLIGHT
TZOFFSETFROM:-0800
TZOFFSETTO:-0700
TZNAME:PDT
DTSTART:20260308T100000
END:DAYLIGHT
BEGIN:STANDARD
TZOFFSETFROM:-0700
TZOFFSETTO:-0800
TZNAME:PST
DTSTART:20261101T090000
END:STANDARD
BEGIN:DAYLIGHT
TZOFFSETFROM:-0800
TZOFFSETTO:-0700
TZNAME:PDT
DTSTART:20270314T100000
END:DAYLIGHT
BEGIN:STANDARD
TZOFFSETFROM:-0700
TZOFFSETTO:-0800
TZNAME:PST
DTSTART:20271107T090000
END:STANDARD
END:VTIMEZONE
BEGIN:VEVENT
DTSTART;TZID=America/Los_Angeles:20260719T120000
DTEND;TZID=America/Los_Angeles:20260719T180000
DTSTAMP:20260422T152933
CREATED:20260421T211222Z
LAST-MODIFIED:20260421T211222Z
UID:10001788-1784462400-1784484000@evergreenfamilywines.com
SUMMARY:Sip Back Sundays | Prosser
DESCRIPTION:Sundays deserves a little treat. Join us for Sip Back Sundays Happy Hour and enjoy special pricing on wines by the glass in a cozy\, relaxed atmosphere. Grab a friend and let us pour you something delicious.
URL:https://evergreenfamilywines.com/event/sip-back-sundays-prosser/2026-07-19/
LOCATION:Prosser Tasting Room\, 508 Cabernet Court\, Prosser\, WA\, 99350\, United States
ATTACH;FMTTYPE=image/png:https://evergreenfamilywines.com/wp-content/uploads/2026/04/Event-Calendar-Graphics-30.png
END:VEVENT
BEGIN:VEVENT
DTSTART;TZID=America/Los_Angeles:20260719T120000
DTEND;TZID=America/Los_Angeles:20260719T180000
DTSTAMP:20260422T152933
CREATED:20260421T211318Z
LAST-MODIFIED:20260421T211318Z
UID:10001824-1784462400-1784484000@evergreenfamilywines.com
SUMMARY:Sip Back Sundays | Leavenworth
DESCRIPTION:Sundays deserves a little treat. Join us for Sip Back Sundays Happy Hour and enjoy special pricing on wines by the glass in a cozy\, relaxed atmosphere. Grab a friend and let us pour you something delicious.
URL:https://evergreenfamilywines.com/event/sip-back-sundays-leavenworth/2026-07-19/
LOCATION:Leavenworth Tasting Room\, 707 Hwy 2 Unit D\, Leavenworth\, WA\, 98826\, United States
ATTACH;FMTTYPE=image/png:https://evergreenfamilywines.com/wp-content/uploads/2026/04/Event-Calendar-Graphics-30.png
END:VEVENT
BEGIN:VEVENT
DTSTART;TZID=America/Los_Angeles:20260722T140000
DTEND;TZID=America/Los_Angeles:20260722T170000
DTSTAMP:20260422T152933
CREATED:20260308T185045Z
LAST-MODIFIED:20260327T202311Z
UID:10000995-1784728800-1784739600@evergreenfamilywines.com
SUMMARY:Wine Down Wednesdays | Leavenworth
DESCRIPTION:Midweek deserves a little reward. Join us every Wednesday for Wine Down Wednesday Happy Hour and enjoy special pricing on wines by the glass in a cozy\, relaxed atmosphere. \nGrab a friend\, unwind after work\, and let us pour you something delicious.
URL:https://evergreenfamilywines.com/event/wine-wednesdays-happy-hour-woodinville/2026-07-22/
LOCATION:Leavenworth Tasting Room\, 707 Hwy 2 Unit D\, Leavenworth\, WA\, 98826\, United States
ATTACH;FMTTYPE=image/png:https://evergreenfamilywines.com/wp-content/uploads/2026/03/Event-Calendar-Graphics-24.png
END:VEVENT
BEGIN:VEVENT
DTSTART;TZID=America/Los_Angeles:20260722T150000
DTEND;TZID=America/Los_Angeles:20260722T180000
DTSTAMP:20260422T152933
CREATED:20260327T202515Z
LAST-MODIFIED:20260327T202515Z
UID:10001523-1784732400-1784743200@evergreenfamilywines.com
SUMMARY:Wine Down Wednesdays | Prosser
DESCRIPTION:Midweek deserves a little reward. Join us every Wednesday for Wine Down Wednesday Happy Hour and enjoy special pricing on wines by the glass in a cozy\, relaxed atmosphere. \nGrab a friend\, unwind after work\, and let us pour you something delicious.
URL:https://evergreenfamilywines.com/event/wine-down-wednesdays-prosser/2026-07-22/
LOCATION:Prosser Tasting Room\, 508 Cabernet Court\, Prosser\, WA\, 99350\, United States
ATTACH;FMTTYPE=image/png:https://evergreenfamilywines.com/wp-content/uploads/2026/03/Event-Calendar-Graphics-24.png
END:VEVENT
BEGIN:VEVENT
DTSTART;TZID=America/Los_Angeles:20260723T160000
DTEND;TZID=America/Los_Angeles:20260723T200000
DTSTAMP:20260422T152933
CREATED:20260327T201402Z
LAST-MODIFIED:20260402T202420Z
UID:10000958-1784822400-1784836800@evergreenfamilywines.com
SUMMARY:Pizza & Wine on the Patio | Prosser
DESCRIPTION:Join us every Thursday throughout the Spring and Summer for handmade\, artisan pizzas. Enjoy wine by the glass or bottle while listening to live music amidst the sunshine.
URL:https://evergreenfamilywines.com/event/pizza-wine-on-the-patio-prosser/2026-07-23/
LOCATION:Prosser Tasting Room\, 508 Cabernet Court\, Prosser\, WA\, 99350\, United States
ATTACH;FMTTYPE=image/jpeg:https://evergreenfamilywines.com/wp-content/uploads/2025/08/thumbnail_image2-e1755023528991.jpg
END:VEVENT
BEGIN:VEVENT
DTSTART;TZID=America/Los_Angeles:20260726T120000
DTEND;TZID=America/Los_Angeles:20260726T180000
DTSTAMP:20260422T152933
CREATED:20260421T211222Z
LAST-MODIFIED:20260421T211222Z
UID:10001789-1785067200-1785088800@evergreenfamilywines.com
SUMMARY:Sip Back Sundays | Prosser
DESCRIPTION:Sundays deserves a little treat. Join us for Sip Back Sundays Happy Hour and enjoy special pricing on wines by the glass in a cozy\, relaxed atmosphere. Grab a friend and let us pour you something delicious.
URL:https://evergreenfamilywines.com/event/sip-back-sundays-prosser/2026-07-26/
LOCATION:Prosser Tasting Room\, 508 Cabernet Court\, Prosser\, WA\, 99350\, United States
ATTACH;FMTTYPE=image/png:https://evergreenfamilywines.com/wp-content/uploads/2026/04/Event-Calendar-Graphics-30.png
END:VEVENT
BEGIN:VEVENT
DTSTART;TZID=America/Los_Angeles:20260726T120000
DTEND;TZID=America/Los_Angeles:20260726T180000
DTSTAMP:20260422T152933
CREATED:20260421T211318Z
LAST-MODIFIED:20260421T211318Z
UID:10001825-1785067200-1785088800@evergreenfamilywines.com
SUMMARY:Sip Back Sundays | Leavenworth
DESCRIPTION:Sundays deserves a little treat. Join us for Sip Back Sundays Happy Hour and enjoy special pricing on wines by the glass in a cozy\, relaxed atmosphere. Grab a friend and let us pour you something delicious.
URL:https://evergreenfamilywines.com/event/sip-back-sundays-leavenworth/2026-07-26/
LOCATION:Leavenworth Tasting Room\, 707 Hwy 2 Unit D\, Leavenworth\, WA\, 98826\, United States
ATTACH;FMTTYPE=image/png:https://evergreenfamilywines.com/wp-content/uploads/2026/04/Event-Calendar-Graphics-30.png
END:VEVENT
BEGIN:VEVENT
DTSTART;TZID=America/Los_Angeles:20260729T140000
DTEND;TZID=America/Los_Angeles:20260729T170000
DTSTAMP:20260422T152933
CREATED:20260308T185045Z
LAST-MODIFIED:20260327T202311Z
UID:10000996-1785333600-1785344400@evergreenfamilywines.com
SUMMARY:Wine Down Wednesdays | Leavenworth
DESCRIPTION:Midweek deserves a little reward. Join us every Wednesday for Wine Down Wednesday Happy Hour and enjoy special pricing on wines by the glass in a cozy\, relaxed atmosphere. \nGrab a friend\, unwind after work\, and let us pour you something delicious.
URL:https://evergreenfamilywines.com/event/wine-wednesdays-happy-hour-woodinville/2026-07-29/
LOCATION:Leavenworth Tasting Room\, 707 Hwy 2 Unit D\, Leavenworth\, WA\, 98826\, United States
ATTACH;FMTTYPE=image/png:https://evergreenfamilywines.com/wp-content/uploads/2026/03/Event-Calendar-Graphics-24.png
END:VEVENT
BEGIN:VEVENT
DTSTART;TZID=America/Los_Angeles:20260729T150000
DTEND;TZID=America/Los_Angeles:20260729T180000
DTSTAMP:20260422T152933
CREATED:20260327T202515Z
LAST-MODIFIED:20260327T202515Z
UID:10001524-1785337200-1785348000@evergreenfamilywines.com
SUMMARY:Wine Down Wednesdays | Prosser
DESCRIPTION:Midweek deserves a little reward. Join us every Wednesday for Wine Down Wednesday Happy Hour and enjoy special pricing on wines by the glass in a cozy\, relaxed atmosphere. \nGrab a friend\, unwind after work\, and let us pour you something delicious.
URL:https://evergreenfamilywines.com/event/wine-down-wednesdays-prosser/2026-07-29/
LOCATION:Prosser Tasting Room\, 508 Cabernet Court\, Prosser\, WA\, 99350\, United States
ATTACH;FMTTYPE=image/png:https://evergreenfamilywines.com/wp-content/uploads/2026/03/Event-Calendar-Graphics-24.png
END:VEVENT
BEGIN:VEVENT
DTSTART;TZID=America/Los_Angeles:20260730T160000
DTEND;TZID=America/Los_Angeles:20260730T200000
DTSTAMP:20260422T152933
CREATED:20260327T201402Z
LAST-MODIFIED:20260402T202420Z
UID:10000959-1785427200-1785441600@evergreenfamilywines.com
SUMMARY:Pizza & Wine on the Patio | Prosser
DESCRIPTION:Join us every Thursday throughout the Spring and Summer for handmade\, artisan pizzas. Enjoy wine by the glass or bottle while listening to live music amidst the sunshine.
URL:https://evergreenfamilywines.com/event/pizza-wine-on-the-patio-prosser/2026-07-30/
LOCATION:Prosser Tasting Room\, 508 Cabernet Court\, Prosser\, WA\, 99350\, United States
ATTACH;FMTTYPE=image/jpeg:https://evergreenfamilywines.com/wp-content/uploads/2025/08/thumbnail_image2-e1755023528991.jpg
END:VEVENT
BEGIN:VEVENT
DTSTART;TZID=America/Los_Angeles:20260730T180000
DTEND;TZID=America/Los_Angeles:20260730T200000
DTSTAMP:20260422T152933
CREATED:20260308T183857Z
LAST-MODIFIED:20260308T184111Z
UID:10000589-1785434400-1785441600@evergreenfamilywines.com
SUMMARY:BUNCO Night | Woodinville
DESCRIPTION:Grab your friends (or come make new ones!) and join us for a lively night of Bunco\, wine\, and lots of laughs. No experience necessary\, this fast-paced dice game is easy to learn and perfect for a relaxed night out. \nWe’ll keep the wine flowing while the dice roll. Expect friendly competition and plenty of cheering. \nSeats are limited\, so grab your spot and get ready for a night of rolling\, sipping\, and winning.
URL:https://evergreenfamilywines.com/event/bunco-night-woodinville/2026-07-30/
LOCATION:Woodinville Tasting Room\, 14450 Redmond-Woodinville Rd NE\, Woodinville\, WA\, 98072\, United States
ATTACH;FMTTYPE=image/png:https://evergreenfamilywines.com/wp-content/uploads/2026/03/Event-Calendar-Graphics-23.png
END:VEVENT
BEGIN:VEVENT
DTSTART;TZID=America/Los_Angeles:20260801T094500
DTEND;TZID=America/Los_Angeles:20260801T103000
DTSTAMP:20260422T152933
CREATED:20260210T203950Z
LAST-MODIFIED:20260210T203950Z
UID:10000580-1785577500-1785580200@evergreenfamilywines.com
SUMMARY:Yoga + Wine | Leavenworth
DESCRIPTION:Enjoy a fun morning of Yoga + Wine at Evergreen Family Wines in Leavenworth\, WA! \n\n\n\n\nEvergreen Family Wines (previously Milbrandt Vineyards) \nLeavenworth WA \nYOGA + WINE CLASS \n9:45am \nEnjoy a 45-minute ALL-LEVELS Yoga class with a local Yoga Uncorked instructor. We will move\, breathe\, flow and enjoy some much needed yoga to start off our weekend together! \nAfter class you can sit down and relax with your glass of wine of your choice or share a bottle with friends! \n45 Min Yoga Class \nBYOYM: Bring your own Yoga Mat! \n$25/person — yoga class (Wine sold Separately) \n21+ only \nTickets are Limited \nTERMS & CONDITIONS: \nOur Yoga + Wine classes do have a minimum number of guests required for it to run. While unlikely\, it is possible that it will not reach the minimum and you will be notified by phone (text) that it has been canceled & you can then transfer your ticket to another class or request a refund. \n**Please try to sign up at least 24 hours in advance so we know how many yogis to expect\, and to make sure we can meet the Winery’s minimum. ** \nCANCELLATION POLICY: Due to the nature of this event\, we are not able to process refunds. If you do need to transfer your ticket to another event\, please let us know at least 24 hours ahead of time. \n(WINE SOLD SEPARATELY) \nQuestions? ask us at yogauncorked@gmail.com
URL:https://evergreenfamilywines.com/event/yoga-wine-leavenworth/2026-08-01/
LOCATION:Leavenworth Tasting Room\, 707 Hwy 2 Unit D\, Leavenworth\, WA\, 98826\, United States
ATTACH;FMTTYPE=image/png:https://evergreenfamilywines.com/wp-content/uploads/2026/02/Event-Calendar-Graphics-22.png
END:VEVENT
BEGIN:VEVENT
DTSTART;TZID=America/Los_Angeles:20260802T120000
DTEND;TZID=America/Los_Angeles:20260802T180000
DTSTAMP:20260422T152933
CREATED:20260421T211222Z
LAST-MODIFIED:20260421T211222Z
UID:10001790-1785672000-1785693600@evergreenfamilywines.com
SUMMARY:Sip Back Sundays | Prosser
DESCRIPTION:Sundays deserves a little treat. Join us for Sip Back Sundays Happy Hour and enjoy special pricing on wines by the glass in a cozy\, relaxed atmosphere. Grab a friend and let us pour you something delicious.
URL:https://evergreenfamilywines.com/event/sip-back-sundays-prosser/2026-08-02/
LOCATION:Prosser Tasting Room\, 508 Cabernet Court\, Prosser\, WA\, 99350\, United States
ATTACH;FMTTYPE=image/png:https://evergreenfamilywines.com/wp-content/uploads/2026/04/Event-Calendar-Graphics-30.png
END:VEVENT
BEGIN:VEVENT
DTSTART;TZID=America/Los_Angeles:20260802T120000
DTEND;TZID=America/Los_Angeles:20260802T180000
DTSTAMP:20260422T152933
CREATED:20260421T211318Z
LAST-MODIFIED:20260421T211318Z
UID:10001826-1785672000-1785693600@evergreenfamilywines.com
SUMMARY:Sip Back Sundays | Leavenworth
DESCRIPTION:Sundays deserves a little treat. Join us for Sip Back Sundays Happy Hour and enjoy special pricing on wines by the glass in a cozy\, relaxed atmosphere. Grab a friend and let us pour you something delicious.
URL:https://evergreenfamilywines.com/event/sip-back-sundays-leavenworth/2026-08-02/
LOCATION:Leavenworth Tasting Room\, 707 Hwy 2 Unit D\, Leavenworth\, WA\, 98826\, United States
ATTACH;FMTTYPE=image/png:https://evergreenfamilywines.com/wp-content/uploads/2026/04/Event-Calendar-Graphics-30.png
END:VEVENT
BEGIN:VEVENT
DTSTART;TZID=America/Los_Angeles:20260805T140000
DTEND;TZID=America/Los_Angeles:20260805T170000
DTSTAMP:20260422T152933
CREATED:20260308T185045Z
LAST-MODIFIED:20260327T202311Z
UID:10000997-1785938400-1785949200@evergreenfamilywines.com
SUMMARY:Wine Down Wednesdays | Leavenworth
DESCRIPTION:Midweek deserves a little reward. Join us every Wednesday for Wine Down Wednesday Happy Hour and enjoy special pricing on wines by the glass in a cozy\, relaxed atmosphere. \nGrab a friend\, unwind after work\, and let us pour you something delicious.
URL:https://evergreenfamilywines.com/event/wine-wednesdays-happy-hour-woodinville/2026-08-05/
LOCATION:Leavenworth Tasting Room\, 707 Hwy 2 Unit D\, Leavenworth\, WA\, 98826\, United States
ATTACH;FMTTYPE=image/png:https://evergreenfamilywines.com/wp-content/uploads/2026/03/Event-Calendar-Graphics-24.png
END:VEVENT
BEGIN:VEVENT
DTSTART;TZID=America/Los_Angeles:20260805T150000
DTEND;TZID=America/Los_Angeles:20260805T180000
DTSTAMP:20260422T152933
CREATED:20260327T202515Z
LAST-MODIFIED:20260327T202515Z
UID:10001525-1785942000-1785952800@evergreenfamilywines.com
SUMMARY:Wine Down Wednesdays | Prosser
DESCRIPTION:Midweek deserves a little reward. Join us every Wednesday for Wine Down Wednesday Happy Hour and enjoy special pricing on wines by the glass in a cozy\, relaxed atmosphere. \nGrab a friend\, unwind after work\, and let us pour you something delicious.
URL:https://evergreenfamilywines.com/event/wine-down-wednesdays-prosser/2026-08-05/
LOCATION:Prosser Tasting Room\, 508 Cabernet Court\, Prosser\, WA\, 99350\, United States
ATTACH;FMTTYPE=image/png:https://evergreenfamilywines.com/wp-content/uploads/2026/03/Event-Calendar-Graphics-24.png
END:VEVENT
BEGIN:VEVENT
DTSTART;TZID=America/Los_Angeles:20260806T160000
DTEND;TZID=America/Los_Angeles:20260806T200000
DTSTAMP:20260422T152933
CREATED:20260327T201402Z
LAST-MODIFIED:20260402T202420Z
UID:10000960-1786032000-1786046400@evergreenfamilywines.com
SUMMARY:Pizza & Wine on the Patio | Prosser
DESCRIPTION:Join us every Thursday throughout the Spring and Summer for handmade\, artisan pizzas. Enjoy wine by the glass or bottle while listening to live music amidst the sunshine.
URL:https://evergreenfamilywines.com/event/pizza-wine-on-the-patio-prosser/2026-08-06/
LOCATION:Prosser Tasting Room\, 508 Cabernet Court\, Prosser\, WA\, 99350\, United States
ATTACH;FMTTYPE=image/jpeg:https://evergreenfamilywines.com/wp-content/uploads/2025/08/thumbnail_image2-e1755023528991.jpg
END:VEVENT
BEGIN:VEVENT
DTSTART;TZID=America/Los_Angeles:20260807T140000
DTEND;TZID=America/Los_Angeles:20260807T170000
DTSTAMP:20260422T152933
CREATED:20260114T212114Z
LAST-MODIFIED:20260114T212114Z
UID:10000565-1786111200-1786122000@evergreenfamilywines.com
SUMMARY:Live Music Erin McNamee | Leavenworth
DESCRIPTION:Erin McNamee was born and raised in Sultan WA\, a small Cascade Mountain town in the Skykomish River Valley. She was a true singer from the time she could speak. Her mother will tell a story about a determined 5 year old who sang in preschool for her class\, her favorite records strewn about every afternoon as she sang along with every word. Singing was Erin’s destiny set in motion. \nSpending childhood and teenage years in regional choirs: Seattle Girls Choir\, Seattle Opera and Symphony choruses\, guitar lessons and of course; voice. As a young singer-songwriter\, Erin became as a solo artist at the age of 16\, singing songs and playing guitar at open mics and coffee shops\, which she had to drive to Seattle to find back then. She started meeting her early music friends back in those days. \nAfter high school\, Erin moved to Seattle to a tiny studio apartment on Capitol Hill for music study at Cornish College of the Arts. It seemed to be a perfect fit. While schooling at Cornish\, as her artistic interests varied greatly. She studied everything she could. As Erin says\, “music school is where you ditch your TV and start consuming nothing but music… 24/7.” The faculty at Cornish were amazing musicians\, and emphatically guided the course for good listening\, practice and jumping into ensembles.
URL:https://evergreenfamilywines.com/event/live-music-erin-mcnamee-leavenworth-4/2026-08-07/
LOCATION:Leavenworth Tasting Room\, 707 Hwy 2 Unit D\, Leavenworth\, WA\, 98826\, United States
ATTACH;FMTTYPE=image/png:https://evergreenfamilywines.com/wp-content/uploads/2025/11/Line-Dancing-6.png
END:VEVENT
BEGIN:VEVENT
DTSTART;TZID=America/Los_Angeles:20260809T120000
DTEND;TZID=America/Los_Angeles:20260809T180000
DTSTAMP:20260422T152933
CREATED:20260421T211222Z
LAST-MODIFIED:20260421T211222Z
UID:10001791-1786276800-1786298400@evergreenfamilywines.com
SUMMARY:Sip Back Sundays | Prosser
DESCRIPTION:Sundays deserves a little treat. Join us for Sip Back Sundays Happy Hour and enjoy special pricing on wines by the glass in a cozy\, relaxed atmosphere. Grab a friend and let us pour you something delicious.
URL:https://evergreenfamilywines.com/event/sip-back-sundays-prosser/2026-08-09/
LOCATION:Prosser Tasting Room\, 508 Cabernet Court\, Prosser\, WA\, 99350\, United States
ATTACH;FMTTYPE=image/png:https://evergreenfamilywines.com/wp-content/uploads/2026/04/Event-Calendar-Graphics-30.png
END:VEVENT
BEGIN:VEVENT
DTSTART;TZID=America/Los_Angeles:20260809T120000
DTEND;TZID=America/Los_Angeles:20260809T180000
DTSTAMP:20260422T152933
CREATED:20260421T211318Z
LAST-MODIFIED:20260421T211318Z
UID:10001827-1786276800-1786298400@evergreenfamilywines.com
SUMMARY:Sip Back Sundays | Leavenworth
DESCRIPTION:Sundays deserves a little treat. Join us for Sip Back Sundays Happy Hour and enjoy special pricing on wines by the glass in a cozy\, relaxed atmosphere. Grab a friend and let us pour you something delicious.
URL:https://evergreenfamilywines.com/event/sip-back-sundays-leavenworth/2026-08-09/
LOCATION:Leavenworth Tasting Room\, 707 Hwy 2 Unit D\, Leavenworth\, WA\, 98826\, United States
ATTACH;FMTTYPE=image/png:https://evergreenfamilywines.com/wp-content/uploads/2026/04/Event-Calendar-Graphics-30.png
END:VEVENT
BEGIN:VEVENT
DTSTART;TZID=America/Los_Angeles:20260812T140000
DTEND;TZID=America/Los_Angeles:20260812T170000
DTSTAMP:20260422T152933
CREATED:20260308T185045Z
LAST-MODIFIED:20260327T202311Z
UID:10000998-1786543200-1786554000@evergreenfamilywines.com
SUMMARY:Wine Down Wednesdays | Leavenworth
DESCRIPTION:Midweek deserves a little reward. Join us every Wednesday for Wine Down Wednesday Happy Hour and enjoy special pricing on wines by the glass in a cozy\, relaxed atmosphere. \nGrab a friend\, unwind after work\, and let us pour you something delicious.
URL:https://evergreenfamilywines.com/event/wine-wednesdays-happy-hour-woodinville/2026-08-12/
LOCATION:Leavenworth Tasting Room\, 707 Hwy 2 Unit D\, Leavenworth\, WA\, 98826\, United States
ATTACH;FMTTYPE=image/png:https://evergreenfamilywines.com/wp-content/uploads/2026/03/Event-Calendar-Graphics-24.png
END:VEVENT
BEGIN:VEVENT
DTSTART;TZID=America/Los_Angeles:20260812T150000
DTEND;TZID=America/Los_Angeles:20260812T180000
DTSTAMP:20260422T152933
CREATED:20260327T202515Z
LAST-MODIFIED:20260327T202515Z
UID:10001526-1786546800-1786557600@evergreenfamilywines.com
SUMMARY:Wine Down Wednesdays | Prosser
DESCRIPTION:Midweek deserves a little reward. Join us every Wednesday for Wine Down Wednesday Happy Hour and enjoy special pricing on wines by the glass in a cozy\, relaxed atmosphere. \nGrab a friend\, unwind after work\, and let us pour you something delicious.
URL:https://evergreenfamilywines.com/event/wine-down-wednesdays-prosser/2026-08-12/
LOCATION:Prosser Tasting Room\, 508 Cabernet Court\, Prosser\, WA\, 99350\, United States
ATTACH;FMTTYPE=image/png:https://evergreenfamilywines.com/wp-content/uploads/2026/03/Event-Calendar-Graphics-24.png
END:VEVENT
BEGIN:VEVENT
DTSTART;TZID=America/Los_Angeles:20260813T160000
DTEND;TZID=America/Los_Angeles:20260813T200000
DTSTAMP:20260422T152933
CREATED:20260327T201402Z
LAST-MODIFIED:20260402T202420Z
UID:10000961-1786636800-1786651200@evergreenfamilywines.com
SUMMARY:Pizza & Wine on the Patio | Prosser
DESCRIPTION:Join us every Thursday throughout the Spring and Summer for handmade\, artisan pizzas. Enjoy wine by the glass or bottle while listening to live music amidst the sunshine.
URL:https://evergreenfamilywines.com/event/pizza-wine-on-the-patio-prosser/2026-08-13/
LOCATION:Prosser Tasting Room\, 508 Cabernet Court\, Prosser\, WA\, 99350\, United States
ATTACH;FMTTYPE=image/jpeg:https://evergreenfamilywines.com/wp-content/uploads/2025/08/thumbnail_image2-e1755023528991.jpg
END:VEVENT
BEGIN:VEVENT
DTSTART;TZID=America/Los_Angeles:20260816T120000
DTEND;TZID=America/Los_Angeles:20260816T180000
DTSTAMP:20260422T152933
CREATED:20260421T211222Z
LAST-MODIFIED:20260421T211222Z
UID:10001792-1786881600-1786903200@evergreenfamilywines.com
SUMMARY:Sip Back Sundays | Prosser
DESCRIPTION:Sundays deserves a little treat. Join us for Sip Back Sundays Happy Hour and enjoy special pricing on wines by the glass in a cozy\, relaxed atmosphere. Grab a friend and let us pour you something delicious.
URL:https://evergreenfamilywines.com/event/sip-back-sundays-prosser/2026-08-16/
LOCATION:Prosser Tasting Room\, 508 Cabernet Court\, Prosser\, WA\, 99350\, United States
ATTACH;FMTTYPE=image/png:https://evergreenfamilywines.com/wp-content/uploads/2026/04/Event-Calendar-Graphics-30.png
END:VEVENT
BEGIN:VEVENT
DTSTART;TZID=America/Los_Angeles:20260816T120000
DTEND;TZID=America/Los_Angeles:20260816T180000
DTSTAMP:20260422T152933
CREATED:20260421T211318Z
LAST-MODIFIED:20260421T211318Z
UID:10001828-1786881600-1786903200@evergreenfamilywines.com
SUMMARY:Sip Back Sundays | Leavenworth
DESCRIPTION:Sundays deserves a little treat. Join us for Sip Back Sundays Happy Hour and enjoy special pricing on wines by the glass in a cozy\, relaxed atmosphere. Grab a friend and let us pour you something delicious.
URL:https://evergreenfamilywines.com/event/sip-back-sundays-leavenworth/2026-08-16/
LOCATION:Leavenworth Tasting Room\, 707 Hwy 2 Unit D\, Leavenworth\, WA\, 98826\, United States
ATTACH;FMTTYPE=image/png:https://evergreenfamilywines.com/wp-content/uploads/2026/04/Event-Calendar-Graphics-30.png
END:VEVENT
BEGIN:VEVENT
DTSTART;TZID=America/Los_Angeles:20260819T140000
DTEND;TZID=America/Los_Angeles:20260819T170000
DTSTAMP:20260422T152933
CREATED:20260308T185045Z
LAST-MODIFIED:20260327T202311Z
UID:10000999-1787148000-1787158800@evergreenfamilywines.com
SUMMARY:Wine Down Wednesdays | Leavenworth
DESCRIPTION:Midweek deserves a little reward. Join us every Wednesday for Wine Down Wednesday Happy Hour and enjoy special pricing on wines by the glass in a cozy\, relaxed atmosphere. \nGrab a friend\, unwind after work\, and let us pour you something delicious.
URL:https://evergreenfamilywines.com/event/wine-wednesdays-happy-hour-woodinville/2026-08-19/
LOCATION:Leavenworth Tasting Room\, 707 Hwy 2 Unit D\, Leavenworth\, WA\, 98826\, United States
ATTACH;FMTTYPE=image/png:https://evergreenfamilywines.com/wp-content/uploads/2026/03/Event-Calendar-Graphics-24.png
END:VEVENT
BEGIN:VEVENT
DTSTART;TZID=America/Los_Angeles:20260819T150000
DTEND;TZID=America/Los_Angeles:20260819T180000
DTSTAMP:20260422T152933
CREATED:20260327T202515Z
LAST-MODIFIED:20260327T202515Z
UID:10001527-1787151600-1787162400@evergreenfamilywines.com
SUMMARY:Wine Down Wednesdays | Prosser
DESCRIPTION:Midweek deserves a little reward. Join us every Wednesday for Wine Down Wednesday Happy Hour and enjoy special pricing on wines by the glass in a cozy\, relaxed atmosphere. \nGrab a friend\, unwind after work\, and let us pour you something delicious.
URL:https://evergreenfamilywines.com/event/wine-down-wednesdays-prosser/2026-08-19/
LOCATION:Prosser Tasting Room\, 508 Cabernet Court\, Prosser\, WA\, 99350\, United States
ATTACH;FMTTYPE=image/png:https://evergreenfamilywines.com/wp-content/uploads/2026/03/Event-Calendar-Graphics-24.png
END:VEVENT
BEGIN:VEVENT
DTSTART;TZID=America/Los_Angeles:20260820T160000
DTEND;TZID=America/Los_Angeles:20260820T200000
DTSTAMP:20260422T152933
CREATED:20260327T201402Z
LAST-MODIFIED:20260402T202420Z
UID:10000962-1787241600-1787256000@evergreenfamilywines.com
SUMMARY:Pizza & Wine on the Patio | Prosser
DESCRIPTION:Join us every Thursday throughout the Spring and Summer for handmade\, artisan pizzas. Enjoy wine by the glass or bottle while listening to live music amidst the sunshine.
URL:https://evergreenfamilywines.com/event/pizza-wine-on-the-patio-prosser/2026-08-20/
LOCATION:Prosser Tasting Room\, 508 Cabernet Court\, Prosser\, WA\, 99350\, United States
ATTACH;FMTTYPE=image/jpeg:https://evergreenfamilywines.com/wp-content/uploads/2025/08/thumbnail_image2-e1755023528991.jpg
END:VEVENT
BEGIN:VEVENT
DTSTART;TZID=America/Los_Angeles:20260823T120000
DTEND;TZID=America/Los_Angeles:20260823T180000
DTSTAMP:20260422T152933
CREATED:20260421T211222Z
LAST-MODIFIED:20260421T211222Z
UID:10001793-1787486400-1787508000@evergreenfamilywines.com
SUMMARY:Sip Back Sundays | Prosser
DESCRIPTION:Sundays deserves a little treat. Join us for Sip Back Sundays Happy Hour and enjoy special pricing on wines by the glass in a cozy\, relaxed atmosphere. Grab a friend and let us pour you something delicious.
URL:https://evergreenfamilywines.com/event/sip-back-sundays-prosser/2026-08-23/
LOCATION:Prosser Tasting Room\, 508 Cabernet Court\, Prosser\, WA\, 99350\, United States
ATTACH;FMTTYPE=image/png:https://evergreenfamilywines.com/wp-content/uploads/2026/04/Event-Calendar-Graphics-30.png
END:VEVENT
BEGIN:VEVENT
DTSTART;TZID=America/Los_Angeles:20260823T120000
DTEND;TZID=America/Los_Angeles:20260823T180000
DTSTAMP:20260422T152933
CREATED:20260421T211318Z
LAST-MODIFIED:20260421T211318Z
UID:10001829-1787486400-1787508000@evergreenfamilywines.com
SUMMARY:Sip Back Sundays | Leavenworth
DESCRIPTION:Sundays deserves a little treat. Join us for Sip Back Sundays Happy Hour and enjoy special pricing on wines by the glass in a cozy\, relaxed atmosphere. Grab a friend and let us pour you something delicious.
URL:https://evergreenfamilywines.com/event/sip-back-sundays-leavenworth/2026-08-23/
LOCATION:Leavenworth Tasting Room\, 707 Hwy 2 Unit D\, Leavenworth\, WA\, 98826\, United States
ATTACH;FMTTYPE=image/png:https://evergreenfamilywines.com/wp-content/uploads/2026/04/Event-Calendar-Graphics-30.png
END:VEVENT
END:VCALENDAR