BEGIN:VCALENDAR
VERSION:2.0
PRODID:-//Evergreen Family Wines - ECPv6.15.18//NONSGML v1.0//EN
CALSCALE:GREGORIAN
METHOD:PUBLISH
X-WR-CALNAME:Evergreen Family Wines
X-ORIGINAL-URL:https://evergreenfamilywines.com
X-WR-CALDESC:Events for Evergreen Family Wines
REFRESH-INTERVAL;VALUE=DURATION:PT1H
X-Robots-Tag:noindex
X-PUBLISHED-TTL:PT1H
BEGIN:VTIMEZONE
TZID:America/Los_Angeles
BEGIN:DAYLIGHT
TZOFFSETFROM:-0800
TZOFFSETTO:-0700
TZNAME:PDT
DTSTART:20250309T100000
END:DAYLIGHT
BEGIN:STANDARD
TZOFFSETFROM:-0700
TZOFFSETTO:-0800
TZNAME:PST
DTSTART:20251102T090000
END:STANDARD
BEGIN:DAYLIGHT
TZOFFSETFROM:-0800
TZOFFSETTO:-0700
TZNAME:PDT
DTSTART:20260308T100000
END:DAYLIGHT
BEGIN:STANDARD
TZOFFSETFROM:-0700
TZOFFSETTO:-0800
TZNAME:PST
DTSTART:20261101T090000
END:STANDARD
BEGIN:DAYLIGHT
TZOFFSETFROM:-0800
TZOFFSETTO:-0700
TZNAME:PDT
DTSTART:20270314T100000
END:DAYLIGHT
BEGIN:STANDARD
TZOFFSETFROM:-0700
TZOFFSETTO:-0800
TZNAME:PST
DTSTART:20271107T090000
END:STANDARD
END:VTIMEZONE
BEGIN:VEVENT
DTSTART;TZID=America/Los_Angeles:20260501T120000
DTEND;TZID=America/Los_Angeles:20260530T170000
DTSTAMP:20260424T093601
CREATED:20260422T190445Z
LAST-MODIFIED:20260422T191243Z
UID:10001851-1777636800-1780160400@evergreenfamilywines.com
SUMMARY:Wenatchee Valley Humane Society Donation Drive | Leavenworth
DESCRIPTION:Our tasting room will be hosting a month-long drive collecting supplies for Homeward Pet Adoption Center. \nTo top off the month\, on May 30th we will all be hosting an event centered around the pets that this drive benefits. \nLeavenworth \nPartnering with Wenatchee Valley Humane Society \nDonation Drive List of Needs \nClick here for dogs. \nClick here for cats. \nJoin us May 30th for a super special Adoption Day! The Human Society will be bringing a few pets down to spend the day with us and hopefully find their forever home. Puppies & wine… nothing better!
URL:https://evergreenfamilywines.com/event/wenatchee-valley-humane-society-donation-drive-leavenworth/
LOCATION:Leavenworth Tasting Room\, 707 Hwy 2 Unit D\, Leavenworth\, WA\, 98826\, United States
END:VEVENT
BEGIN:VEVENT
DTSTART;TZID=America/Los_Angeles:20260501T120000
DTEND;TZID=America/Los_Angeles:20260530T170000
DTSTAMP:20260424T093601
CREATED:20260422T190733Z
LAST-MODIFIED:20260422T191237Z
UID:10001852-1777636800-1780160400@evergreenfamilywines.com
SUMMARY:Adams County Pet Rescue Donation Drive | Prosser
DESCRIPTION:Our tasting room will be hosting a month-long drive collecting supplies for Homeward Pet Adoption Center. \nTo top off the month\, on May 30th we will all be hosting an event centered around the pets that this drive benefits. \nProsser \nPartnering with Adams County Pet Rescue \nDonation Drive: See here for the centers list of needs. (Stay tuned) \nCome down on May 30th to meet the pups our donation drive was for. Adams County will be set up on the patio from Noon-3pm with sweet pups looking to meet their new family.
URL:https://evergreenfamilywines.com/event/adams-county-pet-rescue-donation-drive-prosser/
LOCATION:Prosser Tasting Room\, 508 Cabernet Court\, Prosser\, WA\, 99350\, United States
END:VEVENT
BEGIN:VEVENT
DTSTART;TZID=America/Los_Angeles:20260501T120000
DTEND;TZID=America/Los_Angeles:20260530T180000
DTSTAMP:20260424T093601
CREATED:20260422T190028Z
LAST-MODIFIED:20260422T191248Z
UID:10001850-1777636800-1780164000@evergreenfamilywines.com
SUMMARY:Homeward Pet Adoption Center Donation Drive | Woodinville
DESCRIPTION:Our tasting room will be hosting a month-long drive collecting supplies for Homeward Pet Adoption Center. \nTo top off the month\, on May 30th we will all be hosting an event centered around the pets that this drive benefits. \nWoodinville \nPartnering with Homeward Pet Adoption Center \nDonation Drive: See here for the shelters list of needs. \nMay 9th  @ 1pm | Paint YOUR Pet Paint Party \nMay 30th | Bring you sweet pup in while you enjoy a tasting or glass of wine!
URL:https://evergreenfamilywines.com/event/homeward-pet-adoption-center-donation-drive-woodinville/
LOCATION:Woodinville Tasting Room\, 14450 Redmond-Woodinville Rd NE\, Woodinville\, WA\, 98072\, United States
END:VEVENT
BEGIN:VEVENT
DTSTART;TZID=America/Los_Angeles:20260530T120000
DTEND;TZID=America/Los_Angeles:20260530T170000
DTSTAMP:20260424T093601
CREATED:20260422T191149Z
LAST-MODIFIED:20260422T191305Z
UID:10001853-1780142400-1780160400@evergreenfamilywines.com
SUMMARY:Paws on the Patio | All Locations
DESCRIPTION:All month long\, our tasting rooms have been collecting supplies for our local pet adoption partners and now it’s time to celebrate the incredible animals (and organizations) this drive supports. \nJoin us on May 30th for a heartwarming day filled with wine\, wagging tails\, and the chance to make a difference. \nEach location will be hosting its own special pet-centered experience: \n\nWoodinville |  Bring your well-behaved pup along and enjoy a relaxed tasting or glass of wine together. It’s the perfect excuse for a day out with your favorite four-legged friend.\nLeavenworth | Don’t miss our Adoption Day! Spend time with adorable\, adoptable pets brought by the local humane society\, because nothing pairs better than puppies and wine.\nProsser | Head to the patio from 12–3 PM to meet sweet pups looking for their forever homes. Sip\, socialize\, and maybe meet your newest family member.\n\nWhether you’re donating\, adopting\, or just stopping in for a glass\, you’re helping support animals in need\, and that’s something worth raising a glass to.
URL:https://evergreenfamilywines.com/event/paws-on-the-patio-all-locations/
LOCATION:WA
ATTACH;FMTTYPE=image/png:https://evergreenfamilywines.com/wp-content/uploads/2026/04/Untitled-design-19.png
END:VEVENT
BEGIN:VEVENT
DTSTART;TZID=America/Los_Angeles:20260530T140000
DTEND;TZID=America/Los_Angeles:20260530T170000
DTSTAMP:20260424T093601
CREATED:20260421T184736Z
LAST-MODIFIED:20260421T184736Z
UID:10001772-1780149600-1780160400@evergreenfamilywines.com
SUMMARY:Live Music by King Dre | Woodinville
DESCRIPTION:Live music by King Dre in Woodinville! Enjoy live music\, premium WA Wine\, and great ambiance.
URL:https://evergreenfamilywines.com/event/live-music-by-king-dre-woodinville-3/
LOCATION:Woodinville Tasting Room\, 14450 Redmond-Woodinville Rd NE\, Woodinville\, WA\, 98072\, United States
ATTACH;FMTTYPE=image/png:https://evergreenfamilywines.com/wp-content/uploads/2026/04/Screenshot-2026-04-21-114541.png
END:VEVENT
END:VCALENDAR