BEGIN:VCALENDAR
VERSION:2.0
PRODID:-//Evergreen Family Wines - ECPv6.15.18//NONSGML v1.0//EN
CALSCALE:GREGORIAN
METHOD:PUBLISH
X-WR-CALNAME:Evergreen Family Wines
X-ORIGINAL-URL:https://evergreenfamilywines.com
X-WR-CALDESC:Events for Evergreen Family Wines
REFRESH-INTERVAL;VALUE=DURATION:PT1H
X-Robots-Tag:noindex
X-PUBLISHED-TTL:PT1H
BEGIN:VTIMEZONE
TZID:America/Los_Angeles
BEGIN:DAYLIGHT
TZOFFSETFROM:-0800
TZOFFSETTO:-0700
TZNAME:PDT
DTSTART:20250309T100000
END:DAYLIGHT
BEGIN:STANDARD
TZOFFSETFROM:-0700
TZOFFSETTO:-0800
TZNAME:PST
DTSTART:20251102T090000
END:STANDARD
BEGIN:DAYLIGHT
TZOFFSETFROM:-0800
TZOFFSETTO:-0700
TZNAME:PDT
DTSTART:20260308T100000
END:DAYLIGHT
BEGIN:STANDARD
TZOFFSETFROM:-0700
TZOFFSETTO:-0800
TZNAME:PST
DTSTART:20261101T090000
END:STANDARD
BEGIN:DAYLIGHT
TZOFFSETFROM:-0800
TZOFFSETTO:-0700
TZNAME:PDT
DTSTART:20270314T100000
END:DAYLIGHT
BEGIN:STANDARD
TZOFFSETFROM:-0700
TZOFFSETTO:-0800
TZNAME:PST
DTSTART:20271107T090000
END:STANDARD
END:VTIMEZONE
BEGIN:VEVENT
DTSTART;TZID=America/Los_Angeles:20260516T180000
DTEND;TZID=America/Los_Angeles:20260516T210000
DTSTAMP:20260420T062641
CREATED:20260318T183929Z
LAST-MODIFIED:20260318T183929Z
UID:10000929-1778954400-1778965200@evergreenfamilywines.com
SUMMARY:Summer 2026 Club Release Party | Woodinville
DESCRIPTION:Join us at our Woodinville Tasting Room for our exclusive Wine Club Summer Release Party on May 16th from 6–9 PM! \nBe among the first to experience our newest releases as we open the wines featured in your latest club allotment. Enjoy a beautifully curated charcuterie spread while you sip\, mingle\, and celebrate the season with fellow members. \nPick up your allocation\, discover new favorites\, and enjoy special club discounts on additional bottle purchases during the event. \nThe evening will be made even more special with live music from Farshid Babazadeh\, bringing the perfect soundtrack to a night of great wine and great company. \nRSVP required. Each membership includes two tickets (main club member + one guest). \nWe look forward to raising a glass with you and celebrating another exciting release together.
URL:https://evergreenfamilywines.com/event/summer-2026-club-release-party-woodinville/
LOCATION:Woodinville Tasting Room\, 14450 Redmond-Woodinville Rd NE\, Woodinville\, WA\, 98072\, United States
ATTACH;FMTTYPE=image/avif:https://evergreenfamilywines.com/wp-content/uploads/2026/03/black-and-beige-illustrated-doodle-birthday-party-invitation-1773858503866.avif
END:VEVENT
END:VCALENDAR