BEGIN:VCALENDAR
VERSION:2.0
PRODID:-//Evergreen Family Wines - ECPv6.15.18//NONSGML v1.0//EN
CALSCALE:GREGORIAN
METHOD:PUBLISH
X-WR-CALNAME:Evergreen Family Wines
X-ORIGINAL-URL:https://evergreenfamilywines.com
X-WR-CALDESC:Events for Evergreen Family Wines
REFRESH-INTERVAL;VALUE=DURATION:PT1H
X-Robots-Tag:noindex
X-PUBLISHED-TTL:PT1H
BEGIN:VTIMEZONE
TZID:America/Los_Angeles
BEGIN:DAYLIGHT
TZOFFSETFROM:-0800
TZOFFSETTO:-0700
TZNAME:PDT
DTSTART:20250309T100000
END:DAYLIGHT
BEGIN:STANDARD
TZOFFSETFROM:-0700
TZOFFSETTO:-0800
TZNAME:PST
DTSTART:20251102T090000
END:STANDARD
BEGIN:DAYLIGHT
TZOFFSETFROM:-0800
TZOFFSETTO:-0700
TZNAME:PDT
DTSTART:20260308T100000
END:DAYLIGHT
BEGIN:STANDARD
TZOFFSETFROM:-0700
TZOFFSETTO:-0800
TZNAME:PST
DTSTART:20261101T090000
END:STANDARD
BEGIN:DAYLIGHT
TZOFFSETFROM:-0800
TZOFFSETTO:-0700
TZNAME:PDT
DTSTART:20270314T100000
END:DAYLIGHT
BEGIN:STANDARD
TZOFFSETFROM:-0700
TZOFFSETTO:-0800
TZNAME:PST
DTSTART:20271107T090000
END:STANDARD
END:VTIMEZONE
BEGIN:VEVENT
DTSTART;TZID=America/Los_Angeles:20260424T110000
DTEND;TZID=America/Los_Angeles:20260424T170000
DTSTAMP:20260424T034054
CREATED:20260421T213447Z
LAST-MODIFIED:20260421T213447Z
UID:10001774-1777028400-1777050000@evergreenfamilywines.com
SUMMARY:Spring Barrel Weekend | Prosser
DESCRIPTION:  \n“Spring Barrel Weekend | Celebrate the Season with Spring Releases and Tastes from the Barrel \nApril 24-26\, 2026\nSpring is an exciting time in the valley as vineyards come to life and Yakima Valley wineries begin pouring new releases. Every April\, wineries all around the valley open their doors to celebrate the season with Spring Barrel Weekend. Take a trip the last weekend in April to discover the next great Yakima Valley vintages with special tasting experiences and spring festivities. Enjoy tastes pulled from the barrel\, brand new spring wine releases\, perfect pairings\, educational events\, tours\, goods and tasty bites from local vendors\, live music and more.”
URL:https://evergreenfamilywines.com/event/spring-barrel-weekend-prosser/2026-04-24/
LOCATION:Prosser Tasting Room\, 508 Cabernet Court\, Prosser\, WA\, 99350\, United States
ATTACH;FMTTYPE=image/png:https://evergreenfamilywines.com/wp-content/uploads/2026/04/916f9198-ad09-4155-8cb1-e6344fc51682.png
END:VEVENT
BEGIN:VEVENT
DTSTART;TZID=America/Los_Angeles:20260424T170000
DTEND;TZID=America/Los_Angeles:20260424T200000
DTSTAMP:20260424T034054
CREATED:20260421T184115Z
LAST-MODIFIED:20260421T184115Z
UID:10001769-1777050000-1777060800@evergreenfamilywines.com
SUMMARY:Live Music by Jarrett Renshaw | Woodinville
DESCRIPTION:THE ARTIST\nJarrett Renshaw is a talented singer and multi-instrumentalist known for his captivating performances featuring acoustic soft rock and pop from the Singer/Songwriter genre. He genuinely loves to perform and treats his audience like family and friends. Whether you’re hearing him for the first time or returning for another show\, Jarrett’s performances are always memorable\, heartfelt\, and uniquely his own. \nTHE REPERTOIRE\nJarrett brings his audience the soundtrack of a lifetime—classics from the Sixties to today that’ll have you singing along\, reminiscing\, and discovering something new all at once. \nEnjoy a musical journey that transcends generations with beloved hits from legends like James Taylor\, The Eagles\, Neil Young\, Cat Stevens\, Jimmy Buffett\, R.E.M.\, and many more. \nJarrett also performs original songs\, beautifully crafted short stories about life\, the beginnings and endings of love\, and twists of fate. \nTHE SOUND \nJarrett doesn’t just sing—he reaches out and touches the room. With an impressive range and a pure\, heartfelt delivery\, he captivates audiences and creates moments that linger long after the last note. \nInstrumentally\, Jarrett has achieved a unique and captivating sound using a combination of traditional and electronic instruments. Performing on a Martin acoustic guitar and a Nashville high-strung guitar\, he creates textures that can resemble a mandolin\, banjo\, or even a full string ensemble. He frequently incorporates harmonica in the style of Dylan and Neil Young\, and classic blues\, adding another layer of authenticity to his sound. \nWhat truly sets Jarrett apart is his use of vintage organ-style bass pedals. Playing an authentic 1970s bass synthesizer with his feet while simultaneously performing on guitar and harmonica\, he delivers a one-of-a-kind live music experience that must be seen—and heard—to be believed.
URL:https://evergreenfamilywines.com/event/live-music-by-jarrett-renshaw-woodinville-9/
LOCATION:Woodinville Tasting Room\, 14450 Redmond-Woodinville Rd NE\, Woodinville\, WA\, 98072\, United States
ATTACH;FMTTYPE=image/png:https://evergreenfamilywines.com/wp-content/uploads/2026/01/Event-Calendar-Graphics-8.png
END:VEVENT
END:VCALENDAR