BEGIN:VCALENDAR
VERSION:2.0
PRODID:-//Evergreen Family Wines - ECPv6.15.18//NONSGML v1.0//EN
CALSCALE:GREGORIAN
METHOD:PUBLISH
X-ORIGINAL-URL:https://evergreenfamilywines.com
X-WR-CALDESC:Events for Evergreen Family Wines
REFRESH-INTERVAL;VALUE=DURATION:PT1H
X-Robots-Tag:noindex
X-PUBLISHED-TTL:PT1H
BEGIN:VTIMEZONE
TZID:America/Los_Angeles
BEGIN:DAYLIGHT
TZOFFSETFROM:-0800
TZOFFSETTO:-0700
TZNAME:PDT
DTSTART:20250309T100000
END:DAYLIGHT
BEGIN:STANDARD
TZOFFSETFROM:-0700
TZOFFSETTO:-0800
TZNAME:PST
DTSTART:20251102T090000
END:STANDARD
BEGIN:DAYLIGHT
TZOFFSETFROM:-0800
TZOFFSETTO:-0700
TZNAME:PDT
DTSTART:20260308T100000
END:DAYLIGHT
BEGIN:STANDARD
TZOFFSETFROM:-0700
TZOFFSETTO:-0800
TZNAME:PST
DTSTART:20261101T090000
END:STANDARD
BEGIN:DAYLIGHT
TZOFFSETFROM:-0800
TZOFFSETTO:-0700
TZNAME:PDT
DTSTART:20270314T100000
END:DAYLIGHT
BEGIN:STANDARD
TZOFFSETFROM:-0700
TZOFFSETTO:-0800
TZNAME:PST
DTSTART:20271107T090000
END:STANDARD
END:VTIMEZONE
BEGIN:VEVENT
DTSTART;TZID=America/Los_Angeles:20260403T140000
DTEND;TZID=America/Los_Angeles:20260403T170000
DTSTAMP:20260420T032801
CREATED:20251118T202808Z
LAST-MODIFIED:20251118T202808Z
UID:10000509-1775224800-1775235600@evergreenfamilywines.com
SUMMARY:Live Music Erin McNamee | Leavenworth
DESCRIPTION:Erin McNamee was born and raised in Sultan WA\, a small Cascade Mountain town in the Skykomish River Valley. She was a true singer from the time she could speak. Her mother will tell a story about a determined 5 year old who sang in preschool for her class\, her favorite records strewn about every afternoon as she sang along with every word. Singing was Erin’s destiny set in motion. \nSpending childhood and teenage years in regional choirs: Seattle Girls Choir\, Seattle Opera and Symphony choruses\, guitar lessons and of course; voice. As a young singer-songwriter\, Erin became as a solo artist at the age of 16\, singing songs and playing guitar at open mics and coffee shops\, which she had to drive to Seattle to find back then. She started meeting her early music friends back in those days. \nAfter high school\, Erin moved to Seattle to a tiny studio apartment on Capitol Hill for music study at Cornish College of the Arts. It seemed to be a perfect fit. While schooling at Cornish\, as her artistic interests varied greatly. She studied everything she could. As Erin says\, “music school is where you ditch your TV and start consuming nothing but music… 24/7.” The faculty at Cornish were amazing musicians\, and emphatically guided the course for good listening\, practice and jumping into ensembles.
URL:https://evergreenfamilywines.com/event/live-music-erin-mcnamee-leavenworth-2/2026-04-03/
LOCATION:Leavenworth Tasting Room\, 707 Hwy 2 Unit D\, Leavenworth\, WA\, 98826\, United States
ATTACH;FMTTYPE=image/png:https://evergreenfamilywines.com/wp-content/uploads/2025/11/Line-Dancing-6.png
END:VEVENT
BEGIN:VEVENT
DTSTART;TZID=America/Los_Angeles:20260403T170000
DTEND;TZID=America/Los_Angeles:20260403T200000
DTSTAMP:20260420T032801
CREATED:20260317T173109Z
LAST-MODIFIED:20260317T173251Z
UID:10000911-1775235600-1775246400@evergreenfamilywines.com
SUMMARY:Live Music by Josiah Bogle | Woodinville
DESCRIPTION:Join us for the talented Josiah Bogle in Woodinville. His performance will enhance your Evergreen experience\, making you want to come back for more! \n\n\n\n\n\n\nJosiah Bogle takes you on a journey through the best of vintage pop rock nuanced with today’s current sound. Whether singing one of his original songs or covering an old favorite\, Josiah’s music is firmly rooted in rock ‘n roll. He writes as he sings\, from his heart.
URL:https://evergreenfamilywines.com/event/live-music-by-josiah-bogle-woodinville-2/
LOCATION:Woodinville Tasting Room\, 14450 Redmond-Woodinville Rd NE\, Woodinville\, WA\, 98072\, United States
ATTACH;FMTTYPE=image/avif:https://evergreenfamilywines.com/wp-content/uploads/2025/10/0f297c_73f149143f76447087c17fef3d275d20mv2_d_4694_3456_s_4_2.avif
END:VEVENT
END:VCALENDAR