BEGIN:VCALENDAR
VERSION:2.0
PRODID:-//Evergreen Family Wines - ECPv6.15.18//NONSGML v1.0//EN
CALSCALE:GREGORIAN
METHOD:PUBLISH
X-ORIGINAL-URL:https://evergreenfamilywines.com
X-WR-CALDESC:Events for Evergreen Family Wines
REFRESH-INTERVAL;VALUE=DURATION:PT1H
X-Robots-Tag:noindex
X-PUBLISHED-TTL:PT1H
BEGIN:VTIMEZONE
TZID:America/Los_Angeles
BEGIN:DAYLIGHT
TZOFFSETFROM:-0800
TZOFFSETTO:-0700
TZNAME:PDT
DTSTART:20250309T100000
END:DAYLIGHT
BEGIN:STANDARD
TZOFFSETFROM:-0700
TZOFFSETTO:-0800
TZNAME:PST
DTSTART:20251102T090000
END:STANDARD
BEGIN:DAYLIGHT
TZOFFSETFROM:-0800
TZOFFSETTO:-0700
TZNAME:PDT
DTSTART:20260308T100000
END:DAYLIGHT
BEGIN:STANDARD
TZOFFSETFROM:-0700
TZOFFSETTO:-0800
TZNAME:PST
DTSTART:20261101T090000
END:STANDARD
BEGIN:DAYLIGHT
TZOFFSETFROM:-0800
TZOFFSETTO:-0700
TZNAME:PDT
DTSTART:20270314T100000
END:DAYLIGHT
BEGIN:STANDARD
TZOFFSETFROM:-0700
TZOFFSETTO:-0800
TZNAME:PST
DTSTART:20271107T090000
END:STANDARD
END:VTIMEZONE
BEGIN:VEVENT
DTSTART;TZID=America/Los_Angeles:20260318T140000
DTEND;TZID=America/Los_Angeles:20260318T170000
DTSTAMP:20260420T050923
CREATED:20260308T185045Z
LAST-MODIFIED:20260327T202311Z
UID:10000977-1773842400-1773853200@evergreenfamilywines.com
SUMMARY:Wine Down Wednesdays | Leavenworth
DESCRIPTION:Midweek deserves a little reward. Join us every Wednesday for Wine Down Wednesday Happy Hour and enjoy special pricing on wines by the glass in a cozy\, relaxed atmosphere. \nGrab a friend\, unwind after work\, and let us pour you something delicious.
URL:https://evergreenfamilywines.com/event/wine-wednesdays-happy-hour-woodinville/2026-03-18/
LOCATION:Leavenworth Tasting Room\, 707 Hwy 2 Unit D\, Leavenworth\, WA\, 98826\, United States
ATTACH;FMTTYPE=image/png:https://evergreenfamilywines.com/wp-content/uploads/2026/03/Event-Calendar-Graphics-24.png
END:VEVENT
BEGIN:VEVENT
DTSTART;TZID=America/Los_Angeles:20260318T150000
DTEND;TZID=America/Los_Angeles:20260318T180000
DTSTAMP:20260420T050923
CREATED:20260327T202515Z
LAST-MODIFIED:20260327T202515Z
UID:10001505-1773846000-1773856800@evergreenfamilywines.com
SUMMARY:Wine Down Wednesdays | Prosser
DESCRIPTION:Midweek deserves a little reward. Join us every Wednesday for Wine Down Wednesday Happy Hour and enjoy special pricing on wines by the glass in a cozy\, relaxed atmosphere. \nGrab a friend\, unwind after work\, and let us pour you something delicious.
URL:https://evergreenfamilywines.com/event/wine-down-wednesdays-prosser/2026-03-18/
LOCATION:Prosser Tasting Room\, 508 Cabernet Court\, Prosser\, WA\, 99350\, United States
ATTACH;FMTTYPE=image/png:https://evergreenfamilywines.com/wp-content/uploads/2026/03/Event-Calendar-Graphics-24.png
END:VEVENT
END:VCALENDAR