BEGIN:VCALENDAR
VERSION:2.0
PRODID:-//Evergreen Family Wines - ECPv6.15.18//NONSGML v1.0//EN
CALSCALE:GREGORIAN
METHOD:PUBLISH
X-WR-CALNAME:Evergreen Family Wines
X-ORIGINAL-URL:https://evergreenfamilywines.com
X-WR-CALDESC:Events for Evergreen Family Wines
REFRESH-INTERVAL;VALUE=DURATION:PT1H
X-Robots-Tag:noindex
X-PUBLISHED-TTL:PT1H
BEGIN:VTIMEZONE
TZID:America/Los_Angeles
BEGIN:DAYLIGHT
TZOFFSETFROM:-0800
TZOFFSETTO:-0700
TZNAME:PDT
DTSTART:20250309T100000
END:DAYLIGHT
BEGIN:STANDARD
TZOFFSETFROM:-0700
TZOFFSETTO:-0800
TZNAME:PST
DTSTART:20251102T090000
END:STANDARD
BEGIN:DAYLIGHT
TZOFFSETFROM:-0800
TZOFFSETTO:-0700
TZNAME:PDT
DTSTART:20260308T100000
END:DAYLIGHT
BEGIN:STANDARD
TZOFFSETFROM:-0700
TZOFFSETTO:-0800
TZNAME:PST
DTSTART:20261101T090000
END:STANDARD
BEGIN:DAYLIGHT
TZOFFSETFROM:-0800
TZOFFSETTO:-0700
TZNAME:PDT
DTSTART:20270314T100000
END:DAYLIGHT
BEGIN:STANDARD
TZOFFSETFROM:-0700
TZOFFSETTO:-0800
TZNAME:PST
DTSTART:20271107T090000
END:STANDARD
END:VTIMEZONE
BEGIN:VEVENT
DTSTART;TZID=America/Los_Angeles:20260312T180000
DTEND;TZID=America/Los_Angeles:20260312T200000
DTSTAMP:20260422T015945
CREATED:20260114T191746Z
LAST-MODIFIED:20260311T202437Z
UID:10000557-1773338400-1773345600@evergreenfamilywines.com
SUMMARY:Live Music by Jon White | Prosser
DESCRIPTION:Jon White was born and raised in North Carolina\, but has lived all over the country. After discovering his love for music\, he quickly began playing wherever people would let him. Ever since learning to play a guitar\, he has been writing his thoughts and views of life into his songs. His love for 70’s folk rock heavily influences his style. When performing\, he weaves music from across decades and genres to provide a comfortable time of music that everyone knows.
URL:https://evergreenfamilywines.com/event/live-music-by-jon-white-woodinville/
LOCATION:Prosser Tasting Room\, 508 Cabernet Court\, Prosser\, WA\, 99350\, United States
ATTACH;FMTTYPE=image/png:https://evergreenfamilywines.com/wp-content/uploads/2026/01/Screenshot-2026-01-14-111530.png
END:VEVENT
END:VCALENDAR