BEGIN:VCALENDAR
VERSION:2.0
PRODID:-//Evergreen Family Wines - ECPv6.15.18//NONSGML v1.0//EN
CALSCALE:GREGORIAN
METHOD:PUBLISH
X-WR-CALNAME:Evergreen Family Wines
X-ORIGINAL-URL:https://evergreenfamilywines.com
X-WR-CALDESC:Events for Evergreen Family Wines
REFRESH-INTERVAL;VALUE=DURATION:PT1H
X-Robots-Tag:noindex
X-PUBLISHED-TTL:PT1H
BEGIN:VTIMEZONE
TZID:America/Los_Angeles
BEGIN:DAYLIGHT
TZOFFSETFROM:-0800
TZOFFSETTO:-0700
TZNAME:PDT
DTSTART:20250309T100000
END:DAYLIGHT
BEGIN:STANDARD
TZOFFSETFROM:-0700
TZOFFSETTO:-0800
TZNAME:PST
DTSTART:20251102T090000
END:STANDARD
BEGIN:DAYLIGHT
TZOFFSETFROM:-0800
TZOFFSETTO:-0700
TZNAME:PDT
DTSTART:20260308T100000
END:DAYLIGHT
BEGIN:STANDARD
TZOFFSETFROM:-0700
TZOFFSETTO:-0800
TZNAME:PST
DTSTART:20261101T090000
END:STANDARD
BEGIN:DAYLIGHT
TZOFFSETFROM:-0800
TZOFFSETTO:-0700
TZNAME:PDT
DTSTART:20270314T100000
END:DAYLIGHT
BEGIN:STANDARD
TZOFFSETFROM:-0700
TZOFFSETTO:-0800
TZNAME:PST
DTSTART:20271107T090000
END:STANDARD
END:VTIMEZONE
BEGIN:VEVENT
DTSTART;TZID=America/Los_Angeles:20260205T180000
DTEND;TZID=America/Los_Angeles:20260205T200000
DTSTAMP:20260420T081746
CREATED:20260114T190826Z
LAST-MODIFIED:20260114T190826Z
UID:10000555-1770314400-1770321600@evergreenfamilywines.com
SUMMARY:Live Music by Luke Basile | Prosser
DESCRIPTION:“A joy to work with and an impressive musician. I hope the rest of the country can experience his talent.” \n​   -Crystal Costa\, Good Morning Northwest \n\n\n“Luke is a musical chameleon—both a standout on his own and seamlessly able to adapt to any musical setting.” \n    -Joe Smart\, Grammy Award Winner (Mark O’Conner/Brewer’s Grade) \n\n\n“Luke has been an exceptional asset to Breedlove over the past decade\, combining his talents as a guitarist and audio engineer with professionalism and dedication. We’re proud to have him as part of the Breedlove family.” \n     –Breedlove Guitars
URL:https://evergreenfamilywines.com/event/live-music-by-luke-basile-prosser/
LOCATION:Prosser Tasting Room\, 508 Cabernet Court\, Prosser\, WA\, 99350\, United States
ATTACH;FMTTYPE=image/png:https://evergreenfamilywines.com/wp-content/uploads/2026/01/Event-Calendar-Graphics-19.png
END:VEVENT
END:VCALENDAR