BEGIN:VCALENDAR
VERSION:2.0
PRODID:-//Evergreen Family Wines - ECPv6.15.18//NONSGML v1.0//EN
CALSCALE:GREGORIAN
METHOD:PUBLISH
X-WR-CALNAME:Evergreen Family Wines
X-ORIGINAL-URL:https://evergreenfamilywines.com
X-WR-CALDESC:Events for Evergreen Family Wines
REFRESH-INTERVAL;VALUE=DURATION:PT1H
X-Robots-Tag:noindex
X-PUBLISHED-TTL:PT1H
BEGIN:VTIMEZONE
TZID:America/Los_Angeles
BEGIN:DAYLIGHT
TZOFFSETFROM:-0800
TZOFFSETTO:-0700
TZNAME:PDT
DTSTART:20250309T100000
END:DAYLIGHT
BEGIN:STANDARD
TZOFFSETFROM:-0700
TZOFFSETTO:-0800
TZNAME:PST
DTSTART:20251102T090000
END:STANDARD
BEGIN:DAYLIGHT
TZOFFSETFROM:-0800
TZOFFSETTO:-0700
TZNAME:PDT
DTSTART:20260308T100000
END:DAYLIGHT
BEGIN:STANDARD
TZOFFSETFROM:-0700
TZOFFSETTO:-0800
TZNAME:PST
DTSTART:20261101T090000
END:STANDARD
BEGIN:DAYLIGHT
TZOFFSETFROM:-0800
TZOFFSETTO:-0700
TZNAME:PDT
DTSTART:20270314T100000
END:DAYLIGHT
BEGIN:STANDARD
TZOFFSETFROM:-0700
TZOFFSETTO:-0800
TZNAME:PST
DTSTART:20271107T090000
END:STANDARD
END:VTIMEZONE
BEGIN:VEVENT
DTSTART;TZID=America/Los_Angeles:20260204T140000
DTEND;TZID=America/Los_Angeles:20260204T170000
DTSTAMP:20260424T044731
CREATED:20260107T212708Z
LAST-MODIFIED:20260107T212708Z
UID:10000539-1770213600-1770224400@evergreenfamilywines.com
SUMMARY:Winter Flicks Wednesday Happy Hour | Leavenworth
DESCRIPTION:Midweek plans\, upgraded. Join us for Winter Flicks Wednesday\, a laid-back winery happy hour where the mountains meet the vines. Kick back with a glass of wine or a tasting while epic winter footage rolls: snowmobiling adventures\, ice climbing\, snowboarding\, and ski edits full of fresh powder. \nThe vibe: \n\nCozy winery atmosphere\nHigh-energy winter films on screen\nGreat wine in your glass\nZero rush\, all stoke\n\nWhether you’re a snow lover dreaming of your next powder day or just here for the wine and vibes\, this is your perfect winter wind-down. ❄️🍷
URL:https://evergreenfamilywines.com/event/winter-flicks-wednesday-happy-hour-leavenworth/
LOCATION:Leavenworth Tasting Room\, 707 Hwy 2 Unit D\, Leavenworth\, WA\, 98826\, United States
ATTACH;FMTTYPE=image/png:https://evergreenfamilywines.com/wp-content/uploads/2026/01/Event-Calendar-Graphics-12.png
END:VEVENT
END:VCALENDAR