BEGIN:VCALENDAR
VERSION:2.0
PRODID:-//Evergreen Family Wines - ECPv6.15.18//NONSGML v1.0//EN
CALSCALE:GREGORIAN
METHOD:PUBLISH
X-ORIGINAL-URL:https://evergreenfamilywines.com
X-WR-CALDESC:Events for Evergreen Family Wines
REFRESH-INTERVAL;VALUE=DURATION:PT1H
X-Robots-Tag:noindex
X-PUBLISHED-TTL:PT1H
BEGIN:VTIMEZONE
TZID:America/Los_Angeles
BEGIN:DAYLIGHT
TZOFFSETFROM:-0800
TZOFFSETTO:-0700
TZNAME:PDT
DTSTART:20250309T100000
END:DAYLIGHT
BEGIN:STANDARD
TZOFFSETFROM:-0700
TZOFFSETTO:-0800
TZNAME:PST
DTSTART:20251102T090000
END:STANDARD
BEGIN:DAYLIGHT
TZOFFSETFROM:-0800
TZOFFSETTO:-0700
TZNAME:PDT
DTSTART:20260308T100000
END:DAYLIGHT
BEGIN:STANDARD
TZOFFSETFROM:-0700
TZOFFSETTO:-0800
TZNAME:PST
DTSTART:20261101T090000
END:STANDARD
BEGIN:DAYLIGHT
TZOFFSETFROM:-0800
TZOFFSETTO:-0700
TZNAME:PDT
DTSTART:20270314T100000
END:DAYLIGHT
BEGIN:STANDARD
TZOFFSETFROM:-0700
TZOFFSETTO:-0800
TZNAME:PST
DTSTART:20271107T090000
END:STANDARD
END:VTIMEZONE
BEGIN:VEVENT
DTSTART;TZID=America/Los_Angeles:20260130T140000
DTEND;TZID=America/Los_Angeles:20260130T170000
DTSTAMP:20260424T081208
CREATED:20251118T201824Z
LAST-MODIFIED:20260218T182508Z
UID:10000496-1769781600-1769792400@evergreenfamilywines.com
SUMMARY:Live Music Sergio Cuevas | Leavenworth
DESCRIPTION:Sergio Cuevas was born and raised in the little Bavarian-themed mountain town of Leavenworth\, Washington.\nSergio began studying and performing piano at age six. By age thirteen\, he began performing at local dances with R&B bands. In high school\, Sergio’s main focus turned to the drum set as he participated in both Jazz Band and Combo Jazz Bands.  \nSergio went on to earn his BM in Jazz Performance from Cornish College of the Arts where he studied under the three-time Latin Grammy nominee and Brazilian master pianist\, Jovino Santos Neto. Also at Cornish\, he studied with the great jazz trombonist\, Julian Priester\, as well as with Seattle jazz legends Mark Ivester and Chuck Deardorf.  \nBased in Japan and Leavenworth\, Washington\, Sergio performs an impressive schedule of regular gigs year-round. Sergio is fiercely committed to enriching his communities with energetic music performances alongside various local talent. Sergio holds numerous performing residencies and continues to enliven the Shinshu Nagano and Leavenworth areas. Sergio’s principal instrument is percussion\, but he is proficient on piano\, guitar and bass. Some of Sergio’s professional highlights are performing and touring with Jamaican reggae legend Clinton Fearon\, forming the multi-genre dance band Chumstick Liberation Front\, acting as principal arranger and director of multi-artist projects for local Leavenworth musicians\, as well as serving on advisory committees with the Cascade School District.
URL:https://evergreenfamilywines.com/event/live-music-sergio-cuevas-leavenworth/2026-01-30/
LOCATION:Leavenworth Tasting Room\, 707 Hwy 2 Unit D\, Leavenworth\, WA\, 98826\, United States
ATTACH;FMTTYPE=image/png:https://evergreenfamilywines.com/wp-content/uploads/2025/11/Line-Dancing-5.png
END:VEVENT
BEGIN:VEVENT
DTSTART;TZID=America/Los_Angeles:20260130T170000
DTEND;TZID=America/Los_Angeles:20260130T200000
DTSTAMP:20260424T081208
CREATED:20260106T203922Z
LAST-MODIFIED:20260106T203922Z
UID:10000530-1769792400-1769803200@evergreenfamilywines.com
SUMMARY:Live Music by Jarrett Renshaw | Woodinville
DESCRIPTION:THE ARTIST\nJarrett Renshaw is a talented singer and multi-instrumentalist known for his captivating performances featuring acoustic soft rock and pop from the Singer/Songwriter genre. He genuinely loves to perform and treats his audience like family and friends. Whether you’re hearing him for the first time or returning for another show\, Jarrett’s performances are always memorable\, heartfelt\, and uniquely his own. \nTHE REPERTOIRE\nJarrett brings his audience the soundtrack of a lifetime—classics from the Sixties to today that’ll have you singing along\, reminiscing\, and discovering something new all at once. \nEnjoy a musical journey that transcends generations with beloved hits from legends like James Taylor\, The Eagles\, Neil Young\, Cat Stevens\, Jimmy Buffett\, R.E.M.\, and many more. \nJarrett also performs original songs\, beautifully crafted short stories about life\, the beginnings and endings of love\, and twists of fate. \nTHE SOUND \nJarrett doesn’t just sing—he reaches out and touches the room. With an impressive range and a pure\, heartfelt delivery\, he captivates audiences and creates moments that linger long after the last note. \nInstrumentally\, Jarrett has achieved a unique and captivating sound using a combination of traditional and electronic instruments. Performing on a Martin acoustic guitar and a Nashville high-strung guitar\, he creates textures that can resemble a mandolin\, banjo\, or even a full string ensemble. He frequently incorporates harmonica in the style of Dylan and Neil Young\, and classic blues\, adding another layer of authenticity to his sound. \nWhat truly sets Jarrett apart is his use of vintage organ-style bass pedals. Playing an authentic 1970s bass synthesizer with his feet while simultaneously performing on guitar and harmonica\, he delivers a one-of-a-kind live music experience that must be seen—and heard—to be believed.
URL:https://evergreenfamilywines.com/event/live-music-by-jarrett-renshaw-woodinville/
LOCATION:Woodinville Tasting Room\, 14450 Redmond-Woodinville Rd NE\, Woodinville\, WA\, 98072\, United States
ATTACH;FMTTYPE=image/png:https://evergreenfamilywines.com/wp-content/uploads/2026/01/Event-Calendar-Graphics-8.png
END:VEVENT
END:VCALENDAR