BEGIN:VCALENDAR
VERSION:2.0
PRODID:-//Evergreen Family Wines - ECPv6.15.18//NONSGML v1.0//EN
CALSCALE:GREGORIAN
METHOD:PUBLISH
X-ORIGINAL-URL:https://evergreenfamilywines.com
X-WR-CALDESC:Events for Evergreen Family Wines
REFRESH-INTERVAL;VALUE=DURATION:PT1H
X-Robots-Tag:noindex
X-PUBLISHED-TTL:PT1H
BEGIN:VTIMEZONE
TZID:America/Los_Angeles
BEGIN:DAYLIGHT
TZOFFSETFROM:-0800
TZOFFSETTO:-0700
TZNAME:PDT
DTSTART:20250309T100000
END:DAYLIGHT
BEGIN:STANDARD
TZOFFSETFROM:-0700
TZOFFSETTO:-0800
TZNAME:PST
DTSTART:20251102T090000
END:STANDARD
BEGIN:DAYLIGHT
TZOFFSETFROM:-0800
TZOFFSETTO:-0700
TZNAME:PDT
DTSTART:20260308T100000
END:DAYLIGHT
BEGIN:STANDARD
TZOFFSETFROM:-0700
TZOFFSETTO:-0800
TZNAME:PST
DTSTART:20261101T090000
END:STANDARD
BEGIN:DAYLIGHT
TZOFFSETFROM:-0800
TZOFFSETTO:-0700
TZNAME:PDT
DTSTART:20270314T100000
END:DAYLIGHT
BEGIN:STANDARD
TZOFFSETFROM:-0700
TZOFFSETTO:-0800
TZNAME:PST
DTSTART:20271107T090000
END:STANDARD
END:VTIMEZONE
BEGIN:VEVENT
DTSTART;TZID=America/Los_Angeles:20260123T140000
DTEND;TZID=America/Los_Angeles:20260123T170000
DTSTAMP:20260422T051055
CREATED:20260106T235848Z
LAST-MODIFIED:20260106T235848Z
UID:10000536-1769176800-1769187600@evergreenfamilywines.com
SUMMARY:Live Music by Eric Link | Leavenworth
DESCRIPTION:About the Artist \nEric plays a variety of old\, new\, and original songs on guitar\, mandolin and Dobro. Van Morrison\, Sublime\, Lil Nas X\, Chris Stapleton\, Eagles\, Third Eye Blind\, John Denver\, Garth Brooks\, The Beatles\, The Wallflowers\, Ed Sheeran\, Prince\, AC/DC\, and Neil Young.
URL:https://evergreenfamilywines.com/event/live-music-by-eric-link-leavenworth/
LOCATION:Leavenworth Tasting Room\, 707 Hwy 2 Unit D\, Leavenworth\, WA\, 98826\, United States
ATTACH;FMTTYPE=image/png:https://evergreenfamilywines.com/wp-content/uploads/2026/01/Event-Calendar-Graphics-11.png
END:VEVENT
BEGIN:VEVENT
DTSTART;TZID=America/Los_Angeles:20260123T170000
DTEND;TZID=America/Los_Angeles:20260123T200000
DTSTAMP:20260422T051055
CREATED:20260106T202936Z
LAST-MODIFIED:20260106T202936Z
UID:10000526-1769187600-1769198400@evergreenfamilywines.com
SUMMARY:Live Music by Farshid Babazadeh | Woodinville
DESCRIPTION:Rising Artist: Farshid Babazadeh \nFarshid Babazadeh was born in 1956. \nHis artistic nature drew him towards music\, and he began playing the guitar at 12. \nHe studied this instrument at the Music Institute and soon played professionally and taught private students. \nFarshid moved to the Los Angeles area in 1979. There\, he temporarily suspended his musical pursuits and earned a living in photography\, videography\, and a professional photofinishing lab. \nThe Artist’s soul in him re-awakened and guided him to the California Arts Institute where he studied and learned the fundamentals and the techniques of the old masters. His paintings were often portrayed as one of the best among fellow students in the school’s brochure. He also explored the sculpting of the human anatomy. Later Farshid studied stone-cutting at the University of Judaism and pursued an Associate in Arts in figure drawing. \n\n\n\n\n\n\n\nAfter painting a few commissioned pieces\, Farshid turned to more personal and original expressions where he sought to capture the essence of yesteryear. \nHe is inspired by the mysteries of the imagination\, as well as the beauty and majesty of nature. For him\, most aspiratory artists are Dutch painters like Rembrandt\, whose paintings always bring a dark to light luminosity\, or Alma Tedma\, who captures the realism of life. \nFarshid started working with many galleries in Laguna Beach and participated in many juried art shows at California Art Institute \nMy art business has been designated as a “Trusted Art Seller” with The Art Storefronts Organization\, which means you can shop with confidence\, and know that I stand behind the quality and value of my products.
URL:https://evergreenfamilywines.com/event/live-music-by-farshid-babazadeh-woodinville-2/
LOCATION:Woodinville Tasting Room\, 14450 Redmond-Woodinville Rd NE\, Woodinville\, WA\, 98072\, United States
ATTACH;FMTTYPE=image/png:https://evergreenfamilywines.com/wp-content/uploads/2026/01/Event-Calendar-Graphics-4.png
END:VEVENT
END:VCALENDAR