BEGIN:VCALENDAR
VERSION:2.0
PRODID:-//Evergreen Family Wines - ECPv6.15.18//NONSGML v1.0//EN
CALSCALE:GREGORIAN
METHOD:PUBLISH
X-ORIGINAL-URL:https://evergreenfamilywines.com
X-WR-CALDESC:Events for Evergreen Family Wines
REFRESH-INTERVAL;VALUE=DURATION:PT1H
X-Robots-Tag:noindex
X-PUBLISHED-TTL:PT1H
BEGIN:VTIMEZONE
TZID:America/Los_Angeles
BEGIN:DAYLIGHT
TZOFFSETFROM:-0800
TZOFFSETTO:-0700
TZNAME:PDT
DTSTART:20250309T100000
END:DAYLIGHT
BEGIN:STANDARD
TZOFFSETFROM:-0700
TZOFFSETTO:-0800
TZNAME:PST
DTSTART:20251102T090000
END:STANDARD
BEGIN:DAYLIGHT
TZOFFSETFROM:-0800
TZOFFSETTO:-0700
TZNAME:PDT
DTSTART:20260308T100000
END:DAYLIGHT
BEGIN:STANDARD
TZOFFSETFROM:-0700
TZOFFSETTO:-0800
TZNAME:PST
DTSTART:20261101T090000
END:STANDARD
BEGIN:DAYLIGHT
TZOFFSETFROM:-0800
TZOFFSETTO:-0700
TZNAME:PDT
DTSTART:20270314T100000
END:DAYLIGHT
BEGIN:STANDARD
TZOFFSETFROM:-0700
TZOFFSETTO:-0800
TZNAME:PST
DTSTART:20271107T090000
END:STANDARD
END:VTIMEZONE
BEGIN:VEVENT
DTSTART;TZID=America/Los_Angeles:20260122T180000
DTEND;TZID=America/Los_Angeles:20260122T200000
DTSTAMP:20260420T093539
CREATED:20260114T183712Z
LAST-MODIFIED:20260114T183712Z
UID:10000552-1769104800-1769112000@evergreenfamilywines.com
SUMMARY:Live Music Gabe Knutzen | Prosser
DESCRIPTION:The Knutzen Brothers’ Acoustic Album is a collection of our favorite all-acoustic original songs\, including “Long Road Back to You\,” “Grandma’s Secret Recipes\,” and “My Ocean\,” the results of which became the soundtrack to multiple family memory videos on our YouTube Channel. The Acoustic Album is packed with acoustic gold that continues to entertain audiences to this day. \nThe album also features Gabriel playing ukulele on the song “Ukulele Love Song\,” where he discovered his joy of playing the instrument and became inspired to incorporate it more in their live sets. Gabriel’s uke prowess is showcased on his album — It’s About Time — where he performs many songs from yesteryear to kick up some nostalgia for the older generations. Further\, the songs serve to inspire and inform younger generations of the power of some of the classics. \n\n\n\n\nAs they honed their craft on nights and weekends\, Caleb worked at a senior memory care community where he regularly performed for seniors to help residents with Alzheimer’s relive their musical favorites. It gave him great joy to share his love of music with the community via the form of musical therapy. The song “Grandma’s Secret Recipes” was written for his grandmother Marie\, who suffered from dementia\, and has since been used as a musical homage and reminder of the highlights of her life.
URL:https://evergreenfamilywines.com/event/live-music-gabe-knutzen-prosser-2/2026-01-22/
LOCATION:Prosser Tasting Room\, 508 Cabernet Court\, Prosser\, WA\, 99350\, United States
ATTACH;FMTTYPE=image/png:https://evergreenfamilywines.com/wp-content/uploads/2025/11/Event-Calendar-Graphics-2.png
END:VEVENT
END:VCALENDAR