BEGIN:VCALENDAR
VERSION:2.0
PRODID:-//Evergreen Family Wines - ECPv6.15.18//NONSGML v1.0//EN
CALSCALE:GREGORIAN
METHOD:PUBLISH
X-ORIGINAL-URL:https://evergreenfamilywines.com
X-WR-CALDESC:Events for Evergreen Family Wines
REFRESH-INTERVAL;VALUE=DURATION:PT1H
X-Robots-Tag:noindex
X-PUBLISHED-TTL:PT1H
BEGIN:VTIMEZONE
TZID:America/Los_Angeles
BEGIN:DAYLIGHT
TZOFFSETFROM:-0800
TZOFFSETTO:-0700
TZNAME:PDT
DTSTART:20250309T100000
END:DAYLIGHT
BEGIN:STANDARD
TZOFFSETFROM:-0700
TZOFFSETTO:-0800
TZNAME:PST
DTSTART:20251102T090000
END:STANDARD
BEGIN:DAYLIGHT
TZOFFSETFROM:-0800
TZOFFSETTO:-0700
TZNAME:PDT
DTSTART:20260308T100000
END:DAYLIGHT
BEGIN:STANDARD
TZOFFSETFROM:-0700
TZOFFSETTO:-0800
TZNAME:PST
DTSTART:20261101T090000
END:STANDARD
BEGIN:DAYLIGHT
TZOFFSETFROM:-0800
TZOFFSETTO:-0700
TZNAME:PDT
DTSTART:20270314T100000
END:DAYLIGHT
BEGIN:STANDARD
TZOFFSETFROM:-0700
TZOFFSETTO:-0800
TZNAME:PST
DTSTART:20271107T090000
END:STANDARD
END:VTIMEZONE
BEGIN:VEVENT
DTSTART;TZID=America/Los_Angeles:20260117T140000
DTEND;TZID=America/Los_Angeles:20260117T170000
DTSTAMP:20260422T032953
CREATED:20260106T202547Z
LAST-MODIFIED:20260106T202547Z
UID:10000524-1768658400-1768669200@evergreenfamilywines.com
SUMMARY:Live Music by Tyler McGinnis | Woodinville
DESCRIPTION:Join us for live music and great vibes! \nTyler’s creative spin on past and present experiences breeds songs that lyrically offer a sensationalized window into his life. Tyler boasts powerful vocal performances that mix rich styles of Americana and Alternative Country music with Southern Rock and a fresh twist of soulful melodies. His music will have you singing along to a good time drinking song\, reminiscing about long lost love and the regretful or questionable choices of your past\, then leave you feeling uplifted\, refreshed\, and in an all-around good mood.
URL:https://evergreenfamilywines.com/event/live-music-by-tyler-mcginnis-woodinville-2/
LOCATION:Woodinville Tasting Room\, 14450 Redmond-Woodinville Rd NE\, Woodinville\, WA\, 98072\, United States
ATTACH;FMTTYPE=image/png:https://evergreenfamilywines.com/wp-content/uploads/2026/01/Event-Calendar-Graphics-7.png
END:VEVENT
END:VCALENDAR