BEGIN:VCALENDAR
VERSION:2.0
PRODID:-//Evergreen Family Wines - ECPv6.15.18//NONSGML v1.0//EN
CALSCALE:GREGORIAN
METHOD:PUBLISH
X-WR-CALNAME:Evergreen Family Wines
X-ORIGINAL-URL:https://evergreenfamilywines.com
X-WR-CALDESC:Events for Evergreen Family Wines
REFRESH-INTERVAL;VALUE=DURATION:PT1H
X-Robots-Tag:noindex
X-PUBLISHED-TTL:PT1H
BEGIN:VTIMEZONE
TZID:America/Los_Angeles
BEGIN:DAYLIGHT
TZOFFSETFROM:-0800
TZOFFSETTO:-0700
TZNAME:PDT
DTSTART:20250309T100000
END:DAYLIGHT
BEGIN:STANDARD
TZOFFSETFROM:-0700
TZOFFSETTO:-0800
TZNAME:PST
DTSTART:20251102T090000
END:STANDARD
BEGIN:DAYLIGHT
TZOFFSETFROM:-0800
TZOFFSETTO:-0700
TZNAME:PDT
DTSTART:20260308T100000
END:DAYLIGHT
BEGIN:STANDARD
TZOFFSETFROM:-0700
TZOFFSETTO:-0800
TZNAME:PST
DTSTART:20261101T090000
END:STANDARD
BEGIN:DAYLIGHT
TZOFFSETFROM:-0800
TZOFFSETTO:-0700
TZNAME:PDT
DTSTART:20270314T100000
END:DAYLIGHT
BEGIN:STANDARD
TZOFFSETFROM:-0700
TZOFFSETTO:-0800
TZNAME:PST
DTSTART:20271107T090000
END:STANDARD
END:VTIMEZONE
BEGIN:VEVENT
DTSTART;TZID=America/Los_Angeles:20260116T140000
DTEND;TZID=America/Los_Angeles:20260116T170000
DTSTAMP:20260422T044659
CREATED:20251118T201824Z
LAST-MODIFIED:20260218T182508Z
UID:10000495-1768572000-1768582800@evergreenfamilywines.com
SUMMARY:Live Music Sergio Cuevas | Leavenworth
DESCRIPTION:Sergio Cuevas was born and raised in the little Bavarian-themed mountain town of Leavenworth\, Washington.\nSergio began studying and performing piano at age six. By age thirteen\, he began performing at local dances with R&B bands. In high school\, Sergio’s main focus turned to the drum set as he participated in both Jazz Band and Combo Jazz Bands.  \nSergio went on to earn his BM in Jazz Performance from Cornish College of the Arts where he studied under the three-time Latin Grammy nominee and Brazilian master pianist\, Jovino Santos Neto. Also at Cornish\, he studied with the great jazz trombonist\, Julian Priester\, as well as with Seattle jazz legends Mark Ivester and Chuck Deardorf.  \nBased in Japan and Leavenworth\, Washington\, Sergio performs an impressive schedule of regular gigs year-round. Sergio is fiercely committed to enriching his communities with energetic music performances alongside various local talent. Sergio holds numerous performing residencies and continues to enliven the Shinshu Nagano and Leavenworth areas. Sergio’s principal instrument is percussion\, but he is proficient on piano\, guitar and bass. Some of Sergio’s professional highlights are performing and touring with Jamaican reggae legend Clinton Fearon\, forming the multi-genre dance band Chumstick Liberation Front\, acting as principal arranger and director of multi-artist projects for local Leavenworth musicians\, as well as serving on advisory committees with the Cascade School District.
URL:https://evergreenfamilywines.com/event/live-music-sergio-cuevas-leavenworth/2026-01-16/
LOCATION:Leavenworth Tasting Room\, 707 Hwy 2 Unit D\, Leavenworth\, WA\, 98826\, United States
ATTACH;FMTTYPE=image/png:https://evergreenfamilywines.com/wp-content/uploads/2025/11/Line-Dancing-5.png
END:VEVENT
BEGIN:VEVENT
DTSTART;TZID=America/Los_Angeles:20260116T170000
DTEND;TZID=America/Los_Angeles:20260116T200000
DTSTAMP:20260422T044659
CREATED:20260106T202107Z
LAST-MODIFIED:20260106T202107Z
UID:10000523-1768582800-1768593600@evergreenfamilywines.com
SUMMARY:Live Music by Young-Chhaylee | Woodinville
DESCRIPTION:Young-Chhaylee is a singer/songwriter of the PNW. Growing up on the southside of Everett\, WA and being a first generation Cambodian-American has shaped the experience that he speaks on. His writing and style and groove are pieces taken from John Mayer\, J. Cole\, Otis Redding\, and D’angelo. His voice is powerful yet flutters. Simultaneously strong and vulnerable.
URL:https://evergreenfamilywines.com/event/live-music-by-young-chhaylee-woodinville/
LOCATION:Woodinville Tasting Room\, 14450 Redmond-Woodinville Rd NE\, Woodinville\, WA\, 98072\, United States
ATTACH;FMTTYPE=image/png:https://evergreenfamilywines.com/wp-content/uploads/2026/01/Event-Calendar-Graphics-6.png
END:VEVENT
END:VCALENDAR