BEGIN:VCALENDAR
VERSION:2.0
PRODID:-//Evergreen Family Wines - ECPv6.15.18//NONSGML v1.0//EN
CALSCALE:GREGORIAN
METHOD:PUBLISH
X-ORIGINAL-URL:https://evergreenfamilywines.com
X-WR-CALDESC:Events for Evergreen Family Wines
REFRESH-INTERVAL;VALUE=DURATION:PT1H
X-Robots-Tag:noindex
X-PUBLISHED-TTL:PT1H
BEGIN:VTIMEZONE
TZID:America/Los_Angeles
BEGIN:DAYLIGHT
TZOFFSETFROM:-0800
TZOFFSETTO:-0700
TZNAME:PDT
DTSTART:20250309T100000
END:DAYLIGHT
BEGIN:STANDARD
TZOFFSETFROM:-0700
TZOFFSETTO:-0800
TZNAME:PST
DTSTART:20251102T090000
END:STANDARD
BEGIN:DAYLIGHT
TZOFFSETFROM:-0800
TZOFFSETTO:-0700
TZNAME:PDT
DTSTART:20260308T100000
END:DAYLIGHT
BEGIN:STANDARD
TZOFFSETFROM:-0700
TZOFFSETTO:-0800
TZNAME:PST
DTSTART:20261101T090000
END:STANDARD
BEGIN:DAYLIGHT
TZOFFSETFROM:-0800
TZOFFSETTO:-0700
TZNAME:PDT
DTSTART:20270314T100000
END:DAYLIGHT
BEGIN:STANDARD
TZOFFSETFROM:-0700
TZOFFSETTO:-0800
TZNAME:PST
DTSTART:20271107T090000
END:STANDARD
END:VTIMEZONE
BEGIN:VEVENT
DTSTART;TZID=America/Los_Angeles:20260110T103000
DTEND;TZID=America/Los_Angeles:20260110T113000
DTSTAMP:20260422T050850
CREATED:20251118T200653Z
LAST-MODIFIED:20251118T200653Z
UID:10000491-1768041000-1768044600@evergreenfamilywines.com
SUMMARY:Yoga Uncorked | Woodinville
DESCRIPTION:Enjoy a fun morning of Yoga + Wine at Evergreen Family Wines in Woodinville!!
URL:https://evergreenfamilywines.com/event/yoga-uncorked-woodinville/2026-01-10/
LOCATION:Woodinville Tasting Room\, 14450 Redmond-Woodinville Rd NE\, Woodinville\, WA\, 98072\, United States
ATTACH;FMTTYPE=image/png:https://evergreenfamilywines.com/wp-content/uploads/2025/11/Line-Dancing-4.png
END:VEVENT
BEGIN:VEVENT
DTSTART;TZID=America/Los_Angeles:20260110T140000
DTEND;TZID=America/Los_Angeles:20260110T170000
DTSTAMP:20260422T050850
CREATED:20260106T200931Z
LAST-MODIFIED:20260106T200931Z
UID:10000522-1768053600-1768064400@evergreenfamilywines.com
SUMMARY:Live Music by Great Blue Heron | Woodinville
DESCRIPTION:Great Blue Heron is Jason Howard\, an award-winning singer/double bassist who bends the rules of his instrument to uniquely venture into indie-folk music. Using the combination of singing and bowing/plucking chords on the double bass\, he creates a new sound in the genre. The music of Great Blue Heron lyrically explores the harsh realities of adulthood\, the weight of society\, and the resulting yearning to be in and to be part of the wild.
URL:https://evergreenfamilywines.com/event/live-music-by-great-blue-heron-woodinville/
LOCATION:Woodinville Tasting Room\, 14450 Redmond-Woodinville Rd NE\, Woodinville\, WA\, 98072\, United States
ATTACH;FMTTYPE=image/png:https://evergreenfamilywines.com/wp-content/uploads/2026/01/Event-Calendar-Graphics-5.png
END:VEVENT
END:VCALENDAR